FILENAME: O4510539.NES.1167577.tif
QUADRANGLE_NAME: LITTLE PILGRIM BUTTE
QUADRANT: NE
WEST_LONGITUDE: -105 11 15.00000
EAST_LONGITUDE: -105 7 30.00000
NORTH_LATITUDE: 45 30 0.00000
SOUTH_LATITUDE: 45 26 15.00000
PRODUCTION_DATE: 2001 11 19
RASTER_ORDER: LEFT_RIGHT/TOP_BOTTOM
BAND_ORGANIZATION: SINGLE FILE
BAND_CONTENT: BLACK&WHITE
BAND_CONTENT: UNDEFINED
BAND_CONTENT: UNDEFINED
BITS_PER_PIXEL: 8
SAMPLES_AND_LINES: 5544 7557
HORIZONTAL_DATUM: NAD83
HORIZONTAL_COORDINATE_SYSTEM: UTM
COORDINATE_ZONE: 13
HORIZONTAL_UNITS: METERS
HORIZONTAL_RESOLUTION: 1.00000
SECONDARY_HORIZONTAL_DATUM: NAD27
XY_ORIGIN: 484992.00000 5038815.00000
SECONDARY_XY_ORIGIN: 485034.00000 5038599.00000
NATION: US
STATE: MT
NW_QUAD_CORNER_XY: 485351.22500 5038513.60100
NE_QUAD_CORNER_XY: 490234.15000 5038504.10300
SE_QUAD_CORNERY_XY: 490223.35100 5031560.57300
SW_QUAD_CORNER_XY: 485335.02700 5031570.07100
SECONDARY_NW_QUAD_XY: 485350.78800 5038295.99300
SECONDARY_NE_QUAD_XY: 490233.85900 5038286.49500
SECONDARY_SE_QUAD_XY: 490223.06000 5031343.01400
SECONDARY_SW_QUAD_XY: 485334.59000 5031352.51200
RMSE_XY: 0.80000
IMAGE_SOURCE: BLACK AND WHITE FILM
SOURCE_IMAGE_ID: NAPP 9102 53
SOURCE_IMAGE_DATE: 1996 7 14
SOURCE_DEM_DATE: 1973 00 00
AGENCY: ROCKY MOUNTAIN MAPPING CENTER (RMMC)
PRODUCER: ROCKY MOUNTAIN MAPPING CENTER (RMMC)
PRODUCTION_SYSTEM: DV2.6.4 1/00 OV2.6 6/00
COMPRESSION: UNDEFINED
STANDARD_VERSION: 1996 12
METADATA_DATE: 2001 11 19
DATA_FILE_SIZE: 41901552
BYTE_COUNT: 5544
