FILENAME: O4510531.SES.1167571.tif
QUADRANGLE_NAME: DEER CREEK BUTTES
QUADRANT: SE
WEST_LONGITUDE: -105 11 15.00000
EAST_LONGITUDE: -105 7 30.00000
NORTH_LATITUDE: 45 33 45.00000
SOUTH_LATITUDE: 45 30 0.00000
PRODUCTION_DATE: 2001 11 19
RASTER_ORDER: LEFT_RIGHT/TOP_BOTTOM
BAND_ORGANIZATION: SINGLE FILE
BAND_CONTENT: BLACK&WHITE
BAND_CONTENT: UNDEFINED
BAND_CONTENT: UNDEFINED
BITS_PER_PIXEL: 8
SAMPLES_AND_LINES: 5539 7557
HORIZONTAL_DATUM: NAD83
HORIZONTAL_COORDINATE_SYSTEM: UTM
COORDINATE_ZONE: 13
HORIZONTAL_UNITS: METERS
HORIZONTAL_RESOLUTION: 1.00000
SECONDARY_HORIZONTAL_DATUM: NAD27
XY_ORIGIN: 485008.00000 5045758.00000
SECONDARY_XY_ORIGIN: 485049.49300 5045540.86700
NATION: US
STATE: MT
NW_QUAD_CORNER_XY: 485367.44100 5045457.20600
NE_QUAD_CORNER_XY: 490244.96100 5045447.70900
SE_QUAD_CORNERY_XY: 490234.15000 5038504.10300
SW_QUAD_CORNER_XY: 485351.22500 5038513.60100
SECONDARY_NW_QUAD_XY: 485367.00400 5045239.55000
SECONDARY_NE_QUAD_XY: 490244.66900 5045230.05300
SECONDARY_SE_QUAD_XY: 490233.85900 5038286.49500
SECONDARY_SW_QUAD_XY: 485350.78800 5038295.99300
RMSE_XY: 1.00000
IMAGE_SOURCE: BLACK AND WHITE FILM
SOURCE_IMAGE_ID: NAPP 9102 55
SOURCE_IMAGE_DATE: 1996 7 14
SOURCE_DEM_DATE: 1972 00 00
AGENCY: ROCKY MOUNTAIN MAPPING CENTER (RMMC)
PRODUCER: ROCKY MOUNTAIN MAPPING CENTER (RMMC)
PRODUCTION_SYSTEM: DV2.6.4 1/00 OV2.6 6/00
COMPRESSION: UNDEFINED
STANDARD_VERSION: 1996 12
METADATA_DATE: 2001 11 19
DATA_FILE_SIZE: 41863762
BYTE_COUNT: 5539
