FILENAME: O4510523.SES.1167552.tif
QUADRANGLE_NAME: OLIPHANT BUTTE
QUADRANT: SE
WEST_LONGITUDE: -105 11 15.00000
EAST_LONGITUDE: -105 7 30.00000
NORTH_LATITUDE: 45 41 15.00000
SOUTH_LATITUDE: 45 37 30.00000
PRODUCTION_DATE: 2001 11 17
RASTER_ORDER: LEFT_RIGHT/TOP_BOTTOM
BAND_ORGANIZATION: SINGLE FILE
BAND_CONTENT: BLACK&WHITE
BAND_CONTENT: UNDEFINED
BAND_CONTENT: UNDEFINED
BITS_PER_PIXEL: 8
SAMPLES_AND_LINES: 5528 7557
HORIZONTAL_DATUM: NAD83
HORIZONTAL_COORDINATE_SYSTEM: UTM
COORDINATE_ZONE: 13
HORIZONTAL_UNITS: METERS
HORIZONTAL_RESOLUTION: 1.00000
SECONDARY_HORIZONTAL_DATUM: NAD27
XY_ORIGIN: 485041.00000 5059646.00000
SECONDARY_XY_ORIGIN: 485082.00000 5059429.00000
NATION: US
STATE: MT
NW_QUAD_CORNER_XY: 485399.92500 5059344.64700
NE_QUAD_CORNER_XY: 490266.61700 5059335.15000
SE_QUAD_CORNERY_XY: 490255.78300 5052391.39100
SW_QUAD_CORNER_XY: 485383.67500 5052400.88800
SECONDARY_NW_QUAD_XY: 485399.48800 5059126.89600
SECONDARY_NE_QUAD_XY: 490266.32500 5059117.39900
SECONDARY_SE_QUAD_XY: 490255.49100 5052173.68700
SECONDARY_SW_QUAD_XY: 485383.23700 5052183.18500
RMSE_XY: 1.20000
IMAGE_SOURCE: BLACK AND WHITE FILM
SOURCE_IMAGE_ID: NAPP 9102 59
SOURCE_IMAGE_DATE: 1996 7 14
SOURCE_DEM_DATE: 1972 00 00
AGENCY: ROCKY MOUNTAIN MAPPING CENTER (RMMC)
PRODUCER: ROCKY MOUNTAIN MAPPING CENTER (RMMC)
PRODUCTION_SYSTEM: DV2.6.4 1/00 OV2.6 6/00
COMPRESSION: UNDEFINED
STANDARD_VERSION: 1996 12
METADATA_DATE: 2001 11 17
DATA_FILE_SIZE: 41780624
BYTE_COUNT: 5528
