FILENAME: O4510660.NES.1010804.tif
QUADRANGLE_NAME: PINE BUTTE SCHOOL
QUADRANT: NE
WEST_LONGITUDE: -106 33 45.00000
EAST_LONGITUDE: -106 30 0.00000
NORTH_LATITUDE: 45 7 30.00000
SOUTH_LATITUDE: 45 3 45.00000
PRODUCTION_DATE: 1999 6 10
RASTER_ORDER: LEFT_RIGHT/TOP_BOTTOM
BAND_ORGANIZATION: SINGLE FILE
BAND_CONTENT: BLACK&WHITE
BAND_CONTENT: UNDEFINED
BAND_CONTENT: UNDEFINED
BITS_PER_PIXEL: 8
SAMPLES_AND_LINES: 5700 7640
HORIZONTAL_DATUM: NAD83
HORIZONTAL_COORDINATE_SYSTEM: UTM
COORDINATE_ZONE: 13
HORIZONTAL_UNITS: METERS
HORIZONTAL_RESOLUTION: 1.00000
SECONDARY_HORIZONTAL_DATUM: NAD27
XY_ORIGIN: 376636.00000 4998324.00000
SECONDARY_XY_ORIGIN: 376679.84300 4998107.60400
NATION: US
NATION: "SCIENCE
STATE: MT
NW_QUAD_CORNER_XY: 377119.20400 4998023.97400
NE_QUAD_CORNER_XY: 382034.43200 4997930.86300
SE_QUAD_CORNERY_XY: 381905.66300 4990987.79500
SW_QUAD_CORNER_XY: 376985.06600 4991080.90700
SECONDARY_NW_QUAD_XY: 377115.56700 4997806.70900
SECONDARY_NE_QUAD_XY: 382030.94100 4997713.59500
SECONDARY_SE_QUAD_XY: 381902.17200 4990770.58100
SECONDARY_SW_QUAD_XY: 376981.43000 4990863.69600
RMSE_XY: 2.30000
IMAGE_SOURCE: BLACK AND WHITE FILM
SOURCE_IMAGE_ID: NAPP 9115 181
SOURCE_IMAGE_DATE: 1996 09 10
SOURCE_IMAGE_ID: NAPP 9111 016
SOURCE_IMAGE_DATE: 1996 08 11
SOURCE_IMAGE_ID: NAPP 9110 011
SOURCE_IMAGE_DATE: 1996 08 11
SOURCE_IMAGE_ID: NAPP 9110 012
SOURCE_IMAGE_DATE: 1996 08 11
SOURCE_IMAGE_ID: NAPP 9110 014
SOURCE_IMAGE_DATE: 1996 08 11
SOURCE_DEM_DATE: 1993 04 00
AGENCY: WESTERN MAPPING CENTER (WMC)
PRODUCER: UNDEFINED
PRODUCTION_SYSTEM: GIS/MAGIC
COMPRESSION: UNDEFINED
STANDARD_VERSION: 1996 12
METADATA_DATE: 1999 06 15
DATA_FILE_SIZE: 43553700
BYTE_COUNT: 5700
