FILENAME: O4510659.NWS.1010801.tif
QUADRANGLE_NAME: HOLMES RANCH
QUADRANT: NW
WEST_LONGITUDE: -106 45 0.00000
EAST_LONGITUDE: -106 41 15.00000
NORTH_LATITUDE: 45 7 30.00000
SOUTH_LATITUDE: 45 3 45.00000
PRODUCTION_DATE: 1999 6 10
RASTER_ORDER: LEFT_RIGHT/TOP_BOTTOM
BAND_ORGANIZATION: SINGLE FILE
BAND_CONTENT: BLACK&WHITE
BAND_CONTENT: UNDEFINED
BAND_CONTENT: UNDEFINED
BITS_PER_PIXEL: 8
SAMPLES_AND_LINES: 5717 7652
HORIZONTAL_DATUM: NAD83
HORIZONTAL_COORDINATE_SYSTEM: UTM
COORDINATE_ZONE: 13
HORIZONTAL_UNITS: METERS
HORIZONTAL_RESOLUTION: 1.00000
SECONDARY_HORIZONTAL_DATUM: NAD27
XY_ORIGIN: 361873.00000 4998627.00000
SECONDARY_XY_ORIGIN: 361917.39900 4998411.12400
NATION: US
NATION: "SCIENCE
STATE: MT
NW_QUAD_CORNER_XY: 362373.52100 4998326.12300
NE_QUAD_CORNER_XY: 367288.74800 4998221.60400
SE_QUAD_CORNERY_XY: 367143.87300 4991278.53700
SW_QUAD_CORNER_XY: 362223.27700 4991383.05700
SECONDARY_NW_QUAD_XY: 362369.44800 4998108.86700
SECONDARY_NE_QUAD_XY: 367284.82000 4998004.34500
SECONDARY_SE_QUAD_XY: 367139.94700 4991061.33200
SECONDARY_SW_QUAD_XY: 362219.20500 4991165.85500
RMSE_XY: 1.40000
IMAGE_SOURCE: BLACK AND WHITE FILM
SOURCE_IMAGE_ID: NAPP 9115 106
SOURCE_IMAGE_DATE: 1996 09 10
SOURCE_IMAGE_ID: NAPP 9115 105
SOURCE_IMAGE_DATE: 1996 09 10
SOURCE_IMAGE_ID: NAPP 9115 107
SOURCE_IMAGE_DATE: 1996 09 10
SOURCE_DEM_DATE: 1993 04 00
AGENCY: WESTERN MAPPING CENTER (WMC)
PRODUCER: UNDEFINED
PRODUCTION_SYSTEM: GIS/MAGIC
COMPRESSION: UNDEFINED
STANDARD_VERSION: 1996 12
METADATA_DATE: 1999 06 15
DATA_FILE_SIZE: 43752201
BYTE_COUNT: 5717
