FILENAME: O4510654.SES.1010730.tif
QUADRANGLE_NAME: HAMILTON DRAW
QUADRANT: SE
WEST_LONGITUDE: -106 18 45.00000
EAST_LONGITUDE: -106 15 0.00000
NORTH_LATITUDE: 45 11 15.00000
SOUTH_LATITUDE: 45 7 30.00000
PRODUCTION_DATE: 1999 5 24
RASTER_ORDER: LEFT_RIGHT/TOP_BOTTOM
BAND_ORGANIZATION: SINGLE FILE
BAND_CONTENT: BLACK&WHITE
BAND_CONTENT: UNDEFINED
BAND_CONTENT: UNDEFINED
BITS_PER_PIXEL: 8
SAMPLES_AND_LINES: 5672 7624
HORIZONTAL_DATUM: NAD83
HORIZONTAL_COORDINATE_SYSTEM: UTM
COORDINATE_ZONE: 13
HORIZONTAL_UNITS: METERS
HORIZONTAL_RESOLUTION: 1.00000
SECONDARY_HORIZONTAL_DATUM: NAD27
XY_ORIGIN: 396432.00000 5004918.00000
SECONDARY_XY_ORIGIN: 396474.95700 5004700.81700
NATION: US
NATION: "SCIENCE
STATE: MT
NW_QUAD_CORNER_XY: 396892.91200 5004617.48300
NE_QUAD_CORNER_XY: 401802.76900 5004539.58000
SE_QUAD_CORNERY_XY: 401695.35100 4997596.43800
SW_QUAD_CORNER_XY: 396780.12000 4997674.34200
SECONDARY_NW_QUAD_XY: 396889.85600 5004400.15400
SECONDARY_NE_QUAD_XY: 401799.85900 5004322.24900
SECONDARY_SE_QUAD_XY: 401692.44100 4997379.16000
SECONDARY_SW_QUAD_XY: 396777.06500 4997457.06600
RMSE_XY: 2.30000
IMAGE_SOURCE: BLACK AND WHITE FILM
SOURCE_IMAGE_ID: NAPP 10722 015
SOURCE_IMAGE_DATE: 1997 08 25
SOURCE_IMAGE_ID: NAPP 9102 102
SOURCE_IMAGE_DATE: 1996 07 14
SOURCE_IMAGE_ID: NAPP 10722 016
SOURCE_IMAGE_DATE: 1997 08 25
SOURCE_DEM_DATE: 1997 01 01
AGENCY: WESTERN MAPPING CENTER (WMC)
PRODUCER: UNDEFINED
PRODUCTION_SYSTEM: GIS/MAGIC
COMPRESSION: UNDEFINED
STANDARD_VERSION: 1996 12
METADATA_DATE: 1999 06 09
DATA_FILE_SIZE: 43249000
BYTE_COUNT: 5672
