FILENAME: O4510641.NES.1010784.tif
QUADRANGLE_NAME: KIRBY
QUADRANT: NE
WEST_LONGITUDE: -106 56 15.00000
EAST_LONGITUDE: -106 52 30.00000
NORTH_LATITUDE: 45 22 30.00000
SOUTH_LATITUDE: 45 18 45.00000
PRODUCTION_DATE: 1999 6 10
RASTER_ORDER: LEFT_RIGHT/TOP_BOTTOM
BAND_ORGANIZATION: SINGLE FILE
BAND_CONTENT: BLACK&WHITE
BAND_CONTENT: UNDEFINED
BAND_CONTENT: UNDEFINED
BITS_PER_PIXEL: 8
SAMPLES_AND_LINES: 5712 7664
HORIZONTAL_DATUM: NAD83
HORIZONTAL_COORDINATE_SYSTEM: UTM
COORDINATE_ZONE: 13
HORIZONTAL_UNITS: METERS
HORIZONTAL_RESOLUTION: 1.00000
SECONDARY_HORIZONTAL_DATUM: NAD27
XY_ORIGIN: 347778.00000 5026736.00000
SECONDARY_XY_ORIGIN: 347821.74400 5026519.69800
NATION: US
NATION: "SCIENCE
STATE: MT
NW_QUAD_CORNER_XY: 348295.07800 5026435.43500
NE_QUAD_CORNER_XY: 353188.76400 5026319.51300
SE_QUAD_CORNERY_XY: 353027.07600 5019376.17500
SW_QUAD_CORNER_XY: 348127.99600 5019492.09900
SECONDARY_NW_QUAD_XY: 348290.56300 5026217.98000
SECONDARY_NE_QUAD_XY: 353184.39500 5026102.05500
SECONDARY_SE_QUAD_XY: 353022.70800 5019158.76800
SECONDARY_SW_QUAD_XY: 348123.48200 5019274.69500
RMSE_XY: 1.90000
IMAGE_SOURCE: BLACK AND WHITE FILM
SOURCE_IMAGE_ID: NAPP 9085 177
SOURCE_IMAGE_DATE: 1996 06 13
SOURCE_IMAGE_ID: NAPP 9085 178
SOURCE_IMAGE_DATE: 1996 06 13
SOURCE_IMAGE_ID: NAPP 9085 176
SOURCE_IMAGE_DATE: 1996 06 13
SOURCE_IMAGE_ID: NAPP 9115 028
SOURCE_IMAGE_DATE: 1996 09 10
SOURCE_DEM_DATE: 1987 00 00
AGENCY: WESTERN MAPPING CENTER (WMC)
PRODUCER: UNDEFINED
PRODUCTION_SYSTEM: GIS/MAGIC
COMPRESSION: UNDEFINED
STANDARD_VERSION: 1996 12
METADATA_DATE: 1999 06 15
DATA_FILE_SIZE: 43782480
BYTE_COUNT: 5712
