FILENAME: O4510634.SES.1010693.tif
QUADRANGLE_NAME: BULL CREEK LOOKOUT
QUADRANT: SE
WEST_LONGITUDE: -106 48 45.00000
EAST_LONGITUDE: -106 45 0.00000
NORTH_LATITUDE: 45 26 15.00000
SOUTH_LATITUDE: 45 22 30.00000
PRODUCTION_DATE: 1999 6 8
RASTER_ORDER: LEFT_RIGHT/TOP_BOTTOM
BAND_ORGANIZATION: SINGLE FILE
BAND_CONTENT: BLACK&WHITE
BAND_CONTENT: UNDEFINED
BAND_CONTENT: UNDEFINED
BITS_PER_PIXEL: 8
SAMPLES_AND_LINES: 5696 7655
HORIZONTAL_DATUM: NAD83
HORIZONTAL_COORDINATE_SYSTEM: UTM
COORDINATE_ZONE: 13
HORIZONTAL_UNITS: METERS
HORIZONTAL_RESOLUTION: 1.00000
SECONDARY_HORIZONTAL_DATUM: NAD27
XY_ORIGIN: 357733.00000 5033451.00000
SECONDARY_XY_ORIGIN: 357776.10700 5033234.17600
NATION: US
NATION: "SCIENCE
STATE: MT
NW_QUAD_CORNER_XY: 358238.91700 5033150.80500
NE_QUAD_CORNER_XY: 363127.20900 5033042.49300
SE_QUAD_CORNERY_XY: 362976.14300 5026099.08000
SW_QUAD_CORNER_XY: 358082.45200 5026207.39500
SECONDARY_NW_QUAD_XY: 358234.69200 5032933.29300
SECONDARY_NE_QUAD_XY: 363123.13000 5032824.97800
SECONDARY_SE_QUAD_XY: 362972.06500 5025881.61600
SECONDARY_SW_QUAD_XY: 358078.22900 5025989.93400
RMSE_XY: 2.50000
IMAGE_SOURCE: BLACK AND WHITE FILM
SOURCE_IMAGE_ID: NAPP 9115 081
SOURCE_IMAGE_DATE: 1996 09 10
SOURCE_IMAGE_ID: NAPP 9115 082
SOURCE_IMAGE_DATE: 1996 09 10
SOURCE_IMAGE_ID: NAPP 9115 079
SOURCE_IMAGE_DATE: 1996 09 10
SOURCE_IMAGE_ID: NAPP 9115 115
SOURCE_IMAGE_DATE: 1996 09 10
SOURCE_IMAGE_ID: NAPP 9115 117
SOURCE_IMAGE_DATE: 1996 09 10
SOURCE_DEM_DATE: 1987 00 00
AGENCY: WESTERN MAPPING CENTER (WMC)
PRODUCER: UNDEFINED
PRODUCTION_SYSTEM: GIS/MAGIC
COMPRESSION: UNDEFINED
STANDARD_VERSION: 1996 12
METADATA_DATE: 1999 06 09
DATA_FILE_SIZE: 43608576
BYTE_COUNT: 5696
