FILENAME: O4510630.NES.1010456.tif
QUADRANGLE_NAME: ASHLAND
QUADRANT: NE
WEST_LONGITUDE: -106 18 45.00000
EAST_LONGITUDE: -106 15 0.00000
NORTH_LATITUDE: 45 37 30.00000
SOUTH_LATITUDE: 45 33 45.00000
PRODUCTION_DATE: 1999 6 9
RASTER_ORDER: LEFT_RIGHT/TOP_BOTTOM
BAND_ORGANIZATION: SINGLE FILE
BAND_CONTENT: BLACK&WHITE
BAND_CONTENT: UNDEFINED
BAND_CONTENT: UNDEFINED
BITS_PER_PIXEL: 8
SAMPLES_AND_LINES: 5633 7626
HORIZONTAL_DATUM: NAD83
HORIZONTAL_COORDINATE_SYSTEM: UTM
COORDINATE_ZONE: 13
HORIZONTAL_UNITS: METERS
HORIZONTAL_RESOLUTION: 1.00000
SECONDARY_HORIZONTAL_DATUM: NAD27
XY_ORIGIN: 397226.00000 5053523.00000
SECONDARY_XY_ORIGIN: 397267.41600 5053304.63900
NATION: US
NATION: "SCIENCE
STATE: MT
NW_QUAD_CORNER_XY: 397685.90000 5053221.49800
NE_QUAD_CORNER_XY: 402557.98400 5053143.61000
SE_QUAD_CORNERY_XY: 402449.74500 5046199.95900
SW_QUAD_CORNER_XY: 397572.24700 5046277.85000
SECONDARY_NW_QUAD_XY: 397682.83800 5053003.81900
SECONDARY_NE_QUAD_XY: 402555.06800 5052925.92900
SECONDARY_SE_QUAD_XY: 402446.83000 5045982.32500
SECONDARY_SW_QUAD_XY: 397569.18600 5046060.21900
RMSE_XY: 2.20000
IMAGE_SOURCE: BLACK AND WHITE FILM
SOURCE_IMAGE_ID: NAPP 10722 022
SOURCE_IMAGE_DATE: 1997 08 25
SOURCE_IMAGE_ID: NAPP 9102 085
SOURCE_IMAGE_DATE: 1996 07 14
SOURCE_IMAGE_ID: NAPP 10722 021
SOURCE_IMAGE_DATE: 1997 08 25
SOURCE_IMAGE_ID: NAPP 10722 023
SOURCE_IMAGE_DATE: 1997 08 25
SOURCE_IMAGE_ID: NAPP 9090 159
SOURCE_IMAGE_DATE: 1996 07 07
SOURCE_DEM_DATE: 1987 00 00
AGENCY: WESTERN MAPPING CENTER (WMC)
PRODUCER: UNDEFINED
PRODUCTION_SYSTEM: GIS/MAGIC
COMPRESSION: UNDEFINED
STANDARD_VERSION: 1996 12
METADATA_DATE: 1999 06 14
DATA_FILE_SIZE: 42962891
BYTE_COUNT: 5633
