FILENAME: O4510630.NWS.1010457.tif
QUADRANGLE_NAME: ASHLAND
QUADRANT: NW
WEST_LONGITUDE: -106 22 30.00000
EAST_LONGITUDE: -106 18 45.00000
NORTH_LATITUDE: 45 37 30.00000
SOUTH_LATITUDE: 45 33 45.00000
PRODUCTION_DATE: 1999 6 9
RASTER_ORDER: LEFT_RIGHT/TOP_BOTTOM
BAND_ORGANIZATION: SINGLE FILE
BAND_CONTENT: BLACK&WHITE
BAND_CONTENT: UNDEFINED
BAND_CONTENT: UNDEFINED
BITS_PER_PIXEL: 8
SAMPLES_AND_LINES: 5639 7629
HORIZONTAL_DATUM: NAD83
HORIZONTAL_COORDINATE_SYSTEM: UTM
COORDINATE_ZONE: 13
HORIZONTAL_UNITS: METERS
HORIZONTAL_RESOLUTION: 1.00000
SECONDARY_HORIZONTAL_DATUM: NAD27
XY_ORIGIN: 392348.00000 5053604.00000
SECONDARY_XY_ORIGIN: 392389.46600 5053385.72400
NATION: US
NATION: "SCIENCE
STATE: MT
NW_QUAD_CORNER_XY: 392813.81800 5053303.18700
NE_QUAD_CORNER_XY: 397685.90000 5053221.49800
SE_QUAD_CORNERY_XY: 397572.24700 5046277.85000
SW_QUAD_CORNER_XY: 392694.75200 5046359.54300
SECONDARY_NW_QUAD_XY: 392810.61100 5053085.51000
SECONDARY_NE_QUAD_XY: 397682.83800 5053003.81900
SECONDARY_SE_QUAD_XY: 397569.18600 5046060.21900
SECONDARY_SW_QUAD_XY: 392691.54500 5046141.91300
RMSE_XY: 0.60000
IMAGE_SOURCE: BLACK AND WHITE FILM
SOURCE_IMAGE_ID: NAPP 9102 086
SOURCE_IMAGE_DATE: 1996 07 14
SOURCE_IMAGE_ID: NAPP 9102 085
SOURCE_IMAGE_DATE: 1996 07 14
SOURCE_DEM_DATE: 1987 00 00
AGENCY: WESTERN MAPPING CENTER (WMC)
PRODUCER: UNDEFINED
PRODUCTION_SYSTEM: GIS/MAGIC
COMPRESSION: UNDEFINED
STANDARD_VERSION: 1996 12
METADATA_DATE: 1999 06 14
DATA_FILE_SIZE: 43025570
BYTE_COUNT: 5639
