FILENAME: O4510630.SWS.1010459.tif
QUADRANGLE_NAME: ASHLAND
QUADRANT: SW
WEST_LONGITUDE: -106 22 30.00000
EAST_LONGITUDE: -106 18 45.00000
NORTH_LATITUDE: 45 33 45.00000
SOUTH_LATITUDE: 45 30 0.00000
PRODUCTION_DATE: 1999 6 9
RASTER_ORDER: LEFT_RIGHT/TOP_BOTTOM
BAND_ORGANIZATION: SINGLE FILE
BAND_CONTENT: BLACK&WHITE
BAND_CONTENT: UNDEFINED
BAND_CONTENT: UNDEFINED
BITS_PER_PIXEL: 8
SAMPLES_AND_LINES: 5645 7629
HORIZONTAL_DATUM: NAD83
HORIZONTAL_COORDINATE_SYSTEM: UTM
COORDINATE_ZONE: 13
HORIZONTAL_UNITS: METERS
HORIZONTAL_RESOLUTION: 1.00000
SECONDARY_HORIZONTAL_DATUM: NAD27
XY_ORIGIN: 392229.00000 5046661.00000
SECONDARY_XY_ORIGIN: 392270.69800 5046442.85600
NATION: US
NATION: "SCIENCE
STATE: MT
NW_QUAD_CORNER_XY: 392694.75200 5046359.54300
NE_QUAD_CORNER_XY: 397572.24700 5046277.85000
SE_QUAD_CORNERY_XY: 397458.71700 5039334.27500
SW_QUAD_CORNER_XY: 392575.81300 5039415.97000
SECONDARY_NW_QUAD_XY: 392691.54500 5046141.91300
SECONDARY_NE_QUAD_XY: 397569.18600 5046060.21900
SECONDARY_SE_QUAD_XY: 397455.65700 5039116.69200
SECONDARY_SW_QUAD_XY: 392572.60800 5039198.38900
RMSE_XY: 2.30000
IMAGE_SOURCE: BLACK AND WHITE FILM
SOURCE_IMAGE_ID: NAPP 9102 088
SOURCE_IMAGE_DATE: 1996 07 14
SOURCE_IMAGE_ID: NAPP 9106 227
SOURCE_IMAGE_DATE: 1996 08 07
SOURCE_IMAGE_ID: NAPP 9102 089
SOURCE_IMAGE_DATE: 1996 07 14
SOURCE_IMAGE_ID: NAPP 9102 087
SOURCE_IMAGE_DATE: 1996 07 14
SOURCE_DEM_DATE: 1987 00 00
AGENCY: WESTERN MAPPING CENTER (WMC)
PRODUCER: UNDEFINED
PRODUCTION_SYSTEM: GIS/MAGIC
COMPRESSION: UNDEFINED
STANDARD_VERSION: 1996 12
METADATA_DATE: 1999 06 14
DATA_FILE_SIZE: 43071350
BYTE_COUNT: 5645
