FILENAME: O4510629.NES.1010448.tif
QUADRANGLE_NAME: HOLLOWWOOD CREEK
QUADRANT: NE
WEST_LONGITUDE: -106 26 15.00000
EAST_LONGITUDE: -106 22 30.00000
NORTH_LATITUDE: 45 37 30.00000
SOUTH_LATITUDE: 45 33 45.00000
PRODUCTION_DATE: 1999 6 9
RASTER_ORDER: LEFT_RIGHT/TOP_BOTTOM
BAND_ORGANIZATION: SINGLE FILE
BAND_CONTENT: BLACK&WHITE
BAND_CONTENT: UNDEFINED
BAND_CONTENT: UNDEFINED
BITS_PER_PIXEL: 8
SAMPLES_AND_LINES: 5644 7633
HORIZONTAL_DATUM: NAD83
HORIZONTAL_COORDINATE_SYSTEM: UTM
COORDINATE_ZONE: 13
HORIZONTAL_UNITS: METERS
HORIZONTAL_RESOLUTION: 1.00000
SECONDARY_HORIZONTAL_DATUM: NAD27
XY_ORIGIN: 387471.00000 5053690.00000
SECONDARY_XY_ORIGIN: 387512.51600 5053471.81000
NATION: US
NATION: "SCIENCE
STATE: MT
NW_QUAD_CORNER_XY: 387941.74000 5053388.67600
NE_QUAD_CORNER_XY: 392813.81800 5053303.18700
SE_QUAD_CORNERY_XY: 392694.75200 5046359.54300
SW_QUAD_CORNER_XY: 387817.25900 5046445.03600
SECONDARY_NW_QUAD_XY: 387938.38700 5053171.00200
SECONDARY_NE_QUAD_XY: 392810.61100 5053085.51000
SECONDARY_SE_QUAD_XY: 392691.54500 5046141.91300
SECONDARY_SW_QUAD_XY: 387813.90600 5046227.40900
RMSE_XY: 2.00000
IMAGE_SOURCE: BLACK AND WHITE FILM
SOURCE_IMAGE_ID: NAPP 9106 228
SOURCE_IMAGE_DATE: 1996 08 07
SOURCE_IMAGE_ID: NAPP 9115 166
SOURCE_IMAGE_DATE: 1996 09 10
SOURCE_IMAGE_ID: NAPP 9106 227
SOURCE_IMAGE_DATE: 1996 08 07
SOURCE_DEM_DATE: 1987 00 00
AGENCY: WESTERN MAPPING CENTER (WMC)
PRODUCER: UNDEFINED
PRODUCTION_SYSTEM: GIS/MAGIC
COMPRESSION: UNDEFINED
STANDARD_VERSION: 1996 12
METADATA_DATE: 1999 06 14
DATA_FILE_SIZE: 43086296
BYTE_COUNT: 5644
