FILENAME: O4510615.SES.1010842.tif
QUADRANGLE_NAME: BRANDENBERG
QUADRANT: SE
WEST_LONGITUDE: -106 11 15.00000
EAST_LONGITUDE: -106 7 30.00000
NORTH_LATITUDE: 45 48 45.00000
SOUTH_LATITUDE: 45 45 0.00000
PRODUCTION_DATE: 1999 5 24
RASTER_ORDER: LEFT_RIGHT/TOP_BOTTOM
BAND_ORGANIZATION: SINGLE FILE
BAND_CONTENT: BLACK&WHITE
BAND_CONTENT: UNDEFINED
BAND_CONTENT: UNDEFINED
BITS_PER_PIXEL: 8
SAMPLES_AND_LINES: 5606 7618
HORIZONTAL_DATUM: NAD83
HORIZONTAL_COORDINATE_SYSTEM: UTM
COORDINATE_ZONE: 13
HORIZONTAL_UNITS: METERS
HORIZONTAL_RESOLUTION: 1.00000
SECONDARY_HORIZONTAL_DATUM: NAD27
XY_ORIGIN: 407291.00000 5074202.00000
SECONDARY_XY_ORIGIN: 407331.89500 5073983.35300
NATION: US
NATION: "SCIENCE
STATE: MT
NW_QUAD_CORNER_XY: 407739.21100 5073900.92300
NE_QUAD_CORNER_XY: 412595.02500 5073830.64700
SE_QUAD_CORNERY_XY: 412497.29800 5066886.77000
SW_QUAD_CORNER_XY: 407636.05300 5066957.05000
SECONDARY_NW_QUAD_XY: 407736.43900 5073683.10200
SECONDARY_NE_QUAD_XY: 412592.39900 5073612.82400
SECONDARY_SE_QUAD_XY: 412494.67200 5066668.99200
SECONDARY_SW_QUAD_XY: 407633.28200 5066739.27400
RMSE_XY: 1.60000
IMAGE_SOURCE: BLACK AND WHITE FILM
SOURCE_IMAGE_ID: NAPP 9090 138
SOURCE_IMAGE_DATE: 1996 07 07
SOURCE_IMAGE_ID: NAPP 9090 154
SOURCE_IMAGE_DATE: 1996 07 07
SOURCE_IMAGE_ID: NAPP 9090 152
SOURCE_IMAGE_DATE: 1996 07 07
SOURCE_IMAGE_ID: NAPP 9090 139
SOURCE_IMAGE_DATE: 1996 07 07
SOURCE_DEM_DATE: 1970 00 00
AGENCY: WESTERN MAPPING CENTER (WMC)
PRODUCER: UNDEFINED
PRODUCTION_SYSTEM: GIS/MAGIC
COMPRESSION: UNDEFINED
STANDARD_VERSION: 1996 12
METADATA_DATE: 1999 06 25
DATA_FILE_SIZE: 42712114
BYTE_COUNT: 5606
