FILENAME: O4510614.NES.1010836.tif
QUADRANGLE_NAME: HAMMOND DRAW
QUADRANT: NE
WEST_LONGITUDE: -106 18 45.00000
EAST_LONGITUDE: -106 15 0.00000
NORTH_LATITUDE: 45 52 30.00000
SOUTH_LATITUDE: 45 48 45.00000
PRODUCTION_DATE: 1999 5 24
RASTER_ORDER: LEFT_RIGHT/TOP_BOTTOM
BAND_ORGANIZATION: SINGLE FILE
BAND_CONTENT: BLACK&WHITE
BAND_CONTENT: UNDEFINED
BAND_CONTENT: UNDEFINED
BITS_PER_PIXEL: 8
SAMPLES_AND_LINES: 5612 7626
HORIZONTAL_DATUM: NAD83
HORIZONTAL_COORDINATE_SYSTEM: UTM
COORDINATE_ZONE: 13
HORIZONTAL_UNITS: METERS
HORIZONTAL_RESOLUTION: 1.00000
SECONDARY_HORIZONTAL_DATUM: NAD27
XY_ORIGIN: 397682.00000 5081298.00000
SECONDARY_XY_ORIGIN: 397722.94200 5081079.41400
NATION: US
NATION: "SCIENCE
STATE: MT
NW_QUAD_CORNER_XY: 398141.73500 5080996.81200
NE_QUAD_CORNER_XY: 402992.10600 5080918.94100
SE_QUAD_CORNERY_XY: 402883.40000 5073974.99900
SW_QUAD_CORNER_XY: 398027.59300 5074052.87500
SECONDARY_NW_QUAD_XY: 398138.67000 5080778.95100
SECONDARY_NE_QUAD_XY: 402989.18700 5080701.07800
SECONDARY_SE_QUAD_XY: 402880.48300 5073757.18000
SECONDARY_SW_QUAD_XY: 398024.52900 5073835.05900
RMSE_XY: 1.10000
IMAGE_SOURCE: BLACK AND WHITE FILM
SOURCE_IMAGE_ID: NAPP 9097 032
SOURCE_IMAGE_DATE: 1996 07 12
SOURCE_IMAGE_ID: NAPP 9097 031
SOURCE_IMAGE_DATE: 1996 07 12
SOURCE_DEM_DATE: 1970 00 00
AGENCY: WESTERN MAPPING CENTER (WMC)
PRODUCER: UNDEFINED
PRODUCTION_SYSTEM: GIS/MAGIC
COMPRESSION: UNDEFINED
STANDARD_VERSION: 1996 12
METADATA_DATE: 1999 06 25
DATA_FILE_SIZE: 42802724
BYTE_COUNT: 5612
