FILENAME: O4510612.NWS.1010640.tif
QUADRANGLE_NAME: COLSTRIP SE
QUADRANT: NW
WEST_LONGITUDE: -106 37 30.00000
EAST_LONGITUDE: -106 33 45.00000
NORTH_LATITUDE: 45 52 30.00000
SOUTH_LATITUDE: 45 48 45.00000
PRODUCTION_DATE: 1999 6 4
RASTER_ORDER: LEFT_RIGHT/TOP_BOTTOM
BAND_ORGANIZATION: SINGLE FILE
BAND_CONTENT: BLACK&WHITE
BAND_CONTENT: UNDEFINED
BAND_CONTENT: UNDEFINED
BITS_PER_PIXEL: 8
SAMPLES_AND_LINES: 5640 7644
HORIZONTAL_DATUM: NAD83
HORIZONTAL_COORDINATE_SYSTEM: UTM
COORDINATE_ZONE: 13
HORIZONTAL_UNITS: METERS
HORIZONTAL_RESOLUTION: 1.00000
SECONDARY_HORIZONTAL_DATUM: NAD27
XY_ORIGIN: 373402.00000 5081744.00000
SECONDARY_XY_ORIGIN: 373443.33000 5081525.79700
NATION: US
NATION: "SCIENCE
STATE: MT
NW_QUAD_CORNER_XY: 373889.93800 5081443.16900
NE_QUAD_CORNER_XY: 378740.29000 5081346.29700
SE_QUAD_CORNERY_XY: 378604.39700 5074402.38200
SW_QUAD_CORNER_XY: 373748.60700 5074499.26000
SECONDARY_NW_QUAD_XY: 373886.14400 5081225.32200
SECONDARY_NE_QUAD_XY: 378736.64100 5081128.44700
SECONDARY_SE_QUAD_XY: 378600.74900 5074184.57600
SECONDARY_SW_QUAD_XY: 373744.81400 5074281.45700
RMSE_XY: 2.00000
IMAGE_SOURCE: BLACK AND WHITE FILM
SOURCE_IMAGE_ID: NAPP 9110 242
SOURCE_IMAGE_DATE: 1996 08 11
SOURCE_IMAGE_ID: NAPP 9111 054
SOURCE_IMAGE_DATE: 1996 08 11
SOURCE_IMAGE_ID: NAPP 9111 056
SOURCE_IMAGE_DATE: 1996 08 11
SOURCE_IMAGE_ID: NAPP 9110 243
SOURCE_IMAGE_DATE: 1996 08 11
SOURCE_IMAGE_ID: NAPP 9110 241
SOURCE_IMAGE_DATE: 1996 08 11
SOURCE_DEM_DATE: 1997 01 01
AGENCY: WESTERN MAPPING CENTER (WMC)
PRODUCER: UNDEFINED
PRODUCTION_SYSTEM: GIS/MAGIC
COMPRESSION: UNDEFINED
STANDARD_VERSION: 1996 12
METADATA_DATE: 1999 06 07
DATA_FILE_SIZE: 43117800
BYTE_COUNT: 5640
