FILENAME: O4510609.SES.1010625.tif
QUADRANGLE_NAME: SARPY SCHOOL
QUADRANT: SE
WEST_LONGITUDE: -106 56 15.00000
EAST_LONGITUDE: -106 52 30.00000
NORTH_LATITUDE: 45 48 45.00000
SOUTH_LATITUDE: 45 45 0.00000
PRODUCTION_DATE: 1999 5 24
RASTER_ORDER: LEFT_RIGHT/TOP_BOTTOM
BAND_ORGANIZATION: SINGLE FILE
BAND_CONTENT: BLACK&WHITE
BAND_CONTENT: UNDEFINED
BAND_CONTENT: UNDEFINED
BITS_PER_PIXEL: 8
SAMPLES_AND_LINES: 5673 7663
HORIZONTAL_DATUM: NAD83
HORIZONTAL_COORDINATE_SYSTEM: UTM
COORDINATE_ZONE: 13
HORIZONTAL_UNITS: METERS
HORIZONTAL_RESOLUTION: 1.00000
SECONDARY_HORIZONTAL_DATUM: NAD27
XY_ORIGIN: 348954.00000 5075341.00000
SECONDARY_XY_ORIGIN: 348995.79900 5075123.29700
NATION: US
NATION: "SCIENCE
STATE: MT
NW_QUAD_CORNER_XY: 349469.72300 5075040.67400
NE_QUAD_CORNER_XY: 354325.49100 5074924.78800
SE_QUAD_CORNERY_XY: 354162.57600 5067980.97300
SW_QUAD_CORNER_XY: 349301.37400 5068096.86600
SECONDARY_NW_QUAD_XY: 349465.20000 5074822.88800
SECONDARY_NE_QUAD_XY: 354321.11400 5074706.99700
SECONDARY_SE_QUAD_XY: 354158.20000 5067763.22700
SECONDARY_SW_QUAD_XY: 349296.85300 5067879.12400
RMSE_XY: 1.00000
IMAGE_SOURCE: BLACK AND WHITE FILM
SOURCE_IMAGE_ID: NAPP 9085 163
SOURCE_IMAGE_DATE: 1996 06 13
SOURCE_IMAGE_ID: NAPP 9085 164
SOURCE_IMAGE_DATE: 1996 06 13
SOURCE_IMAGE_ID: NAPP 9085 162
SOURCE_IMAGE_DATE: 1996 06 13
SOURCE_DEM_DATE: 1997 00 00
AGENCY: WESTERN MAPPING CENTER (WMC)
PRODUCER: UNDEFINED
PRODUCTION_SYSTEM: GIS/MAGIC
COMPRESSION: UNDEFINED
STANDARD_VERSION: 1996 12
METADATA_DATE: 1999 06 07
DATA_FILE_SIZE: 43477872
BYTE_COUNT: 5673
