FILENAME: O4510602.NES.1010687.tif
QUADRANGLE_NAME: TRAIL CREEK SCHOOL
QUADRANT: NE
WEST_LONGITUDE: -106 48 45.00000
EAST_LONGITUDE: -106 45 0.00000
NORTH_LATITUDE: 46 0 0.00000
SOUTH_LATITUDE: 45 56 15.00000
PRODUCTION_DATE: 1999 6 2
RASTER_ORDER: LEFT_RIGHT/TOP_BOTTOM
BAND_ORGANIZATION: SINGLE FILE
BAND_CONTENT: BLACK&WHITE
BAND_CONTENT: UNDEFINED
BAND_CONTENT: UNDEFINED
BITS_PER_PIXEL: 8
SAMPLES_AND_LINES: 5647 7655
HORIZONTAL_DATUM: NAD83
HORIZONTAL_COORDINATE_SYSTEM: UTM
COORDINATE_ZONE: 13
HORIZONTAL_UNITS: METERS
HORIZONTAL_RESOLUTION: 1.00000
SECONDARY_HORIZONTAL_DATUM: NAD27
XY_ORIGIN: 359149.00000 5095945.00000
SECONDARY_XY_ORIGIN: 359190.66600 5095726.91600
NATION: US
NATION: "SCIENCE
STATE: MT
NW_QUAD_CORNER_XY: 359654.71500 5095644.58000
NE_QUAD_CORNER_XY: 364494.15600 5095536.31900
SE_QUAD_CORNERY_XY: 364341.62200 5088592.28400
SW_QUAD_CORNER_XY: 359496.72900 5088700.55200
SECONDARY_NW_QUAD_XY: 359650.48100 5095426.65700
SECONDARY_NE_QUAD_XY: 364490.06800 5095318.39200
SECONDARY_SE_QUAD_XY: 364337.53400 5088374.39900
SECONDARY_SW_QUAD_XY: 359492.49600 5088482.67100
RMSE_XY: 1.40000
IMAGE_SOURCE: BLACK AND WHITE FILM
SOURCE_IMAGE_ID: NAPP 9115 063
SOURCE_IMAGE_DATE: 1996 09 10
SOURCE_IMAGE_ID: NAPP 9115 048
SOURCE_IMAGE_DATE: 1996 09 10
SOURCE_IMAGE_ID: NAPP 9115 133
SOURCE_IMAGE_DATE: 1996 09 10
SOURCE_DEM_DATE: 1997 00 00
AGENCY: WESTERN MAPPING CENTER (WMC)
PRODUCER: UNDEFINED
PRODUCTION_SYSTEM: GIS/MAGIC
COMPRESSION: UNDEFINED
STANDARD_VERSION: 1996 12
METADATA_DATE: 1999 06 09
DATA_FILE_SIZE: 43233432
BYTE_COUNT: 5647
