FILENAME: O4510763.SWS.1010771.tif
QUADRANGLE_NAME: LITTLE BEAR CREEK
QUADRANT: SW
WEST_LONGITUDE: -107 15 0.00000
EAST_LONGITUDE: -107 11 15.00000
NORTH_LATITUDE: 45 3 45.00000
SOUTH_LATITUDE: 45 0 0.00000
PRODUCTION_DATE: 1999 6 11
RASTER_ORDER: LEFT_RIGHT/TOP_BOTTOM
BAND_ORGANIZATION: SINGLE FILE
BAND_CONTENT: BLACK&WHITE
BAND_CONTENT: UNDEFINED
BAND_CONTENT: UNDEFINED
BITS_PER_PIXEL: 8
SAMPLES_AND_LINES: 5767 7683
HORIZONTAL_DATUM: NAD83
HORIZONTAL_COORDINATE_SYSTEM: UTM
COORDINATE_ZONE: 13
HORIZONTAL_UNITS: METERS
HORIZONTAL_RESOLUTION: 1.00000
SECONDARY_HORIZONTAL_DATUM: NAD27
XY_ORIGIN: 322314.00000 4992657.00000
SECONDARY_XY_ORIGIN: 322359.24900 4992441.93100
NATION: US
NATION: "SCIENCE
STATE: MT
STATE: WY
NW_QUAD_CORNER_XY: 322858.51500 4992356.14700
NE_QUAD_CORNER_XY: 327779.11000 4992221.19500
SE_QUAD_CORNERY_XY: 327591.47800 4985278.19800
SW_QUAD_CORNER_XY: 322665.51700 4985413.15000
SECONDARY_NW_QUAD_XY: 322853.27900 4992138.97400
SECONDARY_NE_QUAD_XY: 327774.01900 4992004.01800
SECONDARY_SE_QUAD_XY: 327586.38900 4985061.07600
SECONDARY_SW_QUAD_XY: 322660.28200 4985196.03200
RMSE_XY: 2.00000
IMAGE_SOURCE: BLACK AND WHITE FILM
SOURCE_IMAGE_ID: NAPP 9098 014
SOURCE_IMAGE_DATE: 1996 07 14
SOURCE_IMAGE_ID: NAPP 9126 067
SOURCE_IMAGE_DATE: 1996 07 14
SOURCE_IMAGE_ID: NAPP 9098 013
SOURCE_IMAGE_DATE: 1996 07 14
SOURCE_IMAGE_ID: NAPP 9100 077
SOURCE_IMAGE_DATE: 1996 07 14
SOURCE_DEM_DATE: 1966 00 00
AGENCY: WESTERN MAPPING CENTER (WMC)
PRODUCER: UNDEFINED
PRODUCTION_SYSTEM: GIS/MAGIC
COMPRESSION: UNDEFINED
STANDARD_VERSION: 1996 12
METADATA_DATE: 1999 06 15
DATA_FILE_SIZE: 44313628
BYTE_COUNT: 5767
