FILENAME: O4510762.SWS.1010759.tif
QUADRANGLE_NAME: PASS CREEK EAST
QUADRANT: SW
WEST_LONGITUDE: -107 22 30.00000
EAST_LONGITUDE: -107 18 45.00000
NORTH_LATITUDE: 45 3 45.00000
SOUTH_LATITUDE: 45 0 0.00000
PRODUCTION_DATE: 1999 6 11
RASTER_ORDER: LEFT_RIGHT/TOP_BOTTOM
BAND_ORGANIZATION: SINGLE FILE
BAND_CONTENT: BLACK&WHITE
BAND_CONTENT: UNDEFINED
BAND_CONTENT: UNDEFINED
BITS_PER_PIXEL: 8
SAMPLES_AND_LINES: 5778 7691
HORIZONTAL_DATUM: NAD83
HORIZONTAL_COORDINATE_SYSTEM: UTM
COORDINATE_ZONE: 13
HORIZONTAL_UNITS: METERS
HORIZONTAL_RESOLUTION: 1.00000
SECONDARY_HORIZONTAL_DATUM: NAD27
XY_ORIGIN: 312461.00000 4992938.00000
SECONDARY_XY_ORIGIN: 312506.32000 4992723.00700
NATION: US
NATION: "SCIENCE
STATE: MT
STATE: WY
NW_QUAD_CORNER_XY: 313017.32700 4992637.46800
NE_QUAD_CORNER_XY: 317937.92100 4992494.90500
SE_QUAD_CORNERY_XY: 317739.55600 4985551.90800
SW_QUAD_CORNER_XY: 312813.59500 4985694.47100
SECONDARY_NW_QUAD_XY: 313011.80000 4992420.30300
SECONDARY_NE_QUAD_XY: 317932.53900 4992277.73600
SECONDARY_SE_QUAD_XY: 317734.17600 4985334.79400
SECONDARY_SW_QUAD_XY: 312808.06900 4985477.36100
RMSE_XY: 1.40000
IMAGE_SOURCE: BLACK AND WHITE FILM
SOURCE_IMAGE_ID: NAPP 9133 039
SOURCE_IMAGE_DATE: 1996 08 08
SOURCE_IMAGE_ID: NAPP 9133 038
SOURCE_IMAGE_DATE: 1996 08 08
SOURCE_IMAGE_ID: NAPP 9133 040
SOURCE_IMAGE_DATE: 1996 08 08
SOURCE_DEM_DATE: 1967 00 00
AGENCY: WESTERN MAPPING CENTER (WMC)
PRODUCER: UNDEFINED
PRODUCTION_SYSTEM: GIS/MAGIC
COMPRESSION: UNDEFINED
STANDARD_VERSION: 1996 12
METADATA_DATE: 1999 06 15
DATA_FILE_SIZE: 44444376
BYTE_COUNT: 5778
