FILENAME: O4510761.NWS.1010753.tif
QUADRANGLE_NAME: PASS CREEK WEST
QUADRANT: NW
WEST_LONGITUDE: -107 30 0.00000
EAST_LONGITUDE: -107 26 15.00000
NORTH_LATITUDE: 45 7 30.00000
SOUTH_LATITUDE: 45 3 45.00000
PRODUCTION_DATE: 1999 6 10
RASTER_ORDER: LEFT_RIGHT/TOP_BOTTOM
BAND_ORGANIZATION: SINGLE FILE
BAND_CONTENT: BLACK&WHITE
BAND_CONTENT: UNDEFINED
BAND_CONTENT: UNDEFINED
BITS_PER_PIXEL: 8
SAMPLES_AND_LINES: 5785 7699
HORIZONTAL_DATUM: NAD83
HORIZONTAL_COORDINATE_SYSTEM: UTM
COORDINATE_ZONE: 13
HORIZONTAL_UNITS: METERS
HORIZONTAL_RESOLUTION: 1.00000
SECONDARY_HORIZONTAL_DATUM: NAD27
XY_ORIGIN: 302823.00000 5000178.00000
SECONDARY_XY_ORIGIN: 302868.45700 4999963.08500
NATION: US
NATION: "SCIENCE
STATE: MT
NW_QUAD_CORNER_XY: 303390.84400 4999877.07200
NE_QUAD_CORNER_XY: 308306.06300 4999726.89700
SE_QUAD_CORNERY_XY: 308096.73300 4992783.83800
SW_QUAD_CORNER_XY: 303176.14000 4992934.01400
SECONDARY_NW_QUAD_XY: 303385.02400 4999659.86200
SECONDARY_NE_QUAD_XY: 308300.38900 4999509.68200
SECONDARY_SE_QUAD_XY: 308091.06100 4992566.67700
SECONDARY_SW_QUAD_XY: 303170.32200 4992716.85800
RMSE_XY: 1.80000
IMAGE_SOURCE: BLACK AND WHITE FILM
SOURCE_IMAGE_ID: NAPP 9133 188
SOURCE_IMAGE_DATE: 1996 08 08
SOURCE_IMAGE_ID: NAPP 9133 187
SOURCE_IMAGE_DATE: 1996 08 08
SOURCE_DEM_DATE: 1967 00 00
AGENCY: WESTERN MAPPING CENTER (WMC)
PRODUCER: UNDEFINED
PRODUCTION_SYSTEM: GIS/MAGIC
COMPRESSION: UNDEFINED
STANDARD_VERSION: 1996 12
METADATA_DATE: 1999 06 15
DATA_FILE_SIZE: 44544500
BYTE_COUNT: 5785
