FILENAME: O4510758.SWS.1050865.tif
QUADRANGLE_NAME: Red Springs
QUADRANT: SW
WEST_LONGITUDE: -107 52 30.00000
EAST_LONGITUDE: -107 48 45.00000
NORTH_LATITUDE: 45 3 45.00000
SOUTH_LATITUDE: 45 0 0.00000
PRODUCTION_DATE: 2000 2 24
RASTER_ORDER: LEFT_RIGHT/TOP_BOTTOM
BAND_ORGANIZATION: SINGLE FILE
BAND_CONTENT: BLACK&WHITE
BAND_CONTENT: UNDEFINED
BAND_CONTENT: UNDEFINED
BITS_PER_PIXEL: 8
SAMPLES_AND_LINES: 5820 7719
HORIZONTAL_DATUM: NAD83
HORIZONTAL_COORDINATE_SYSTEM: UTM
COORDINATE_ZONE: 13
HORIZONTAL_UNITS: meters
HORIZONTAL_RESOLUTION: 1.00000
SECONDARY_HORIZONTAL_DATUM: NAD27
XY_ORIGIN: 273054.32000 4994214.53000
SECONDARY_XY_ORIGIN: 273099.74600 4993999.91800
NATION: US
STATE: MT
STATE: WY
NW_QUAD_CORNER_XY: 273652.58800 4993915.02700
NE_QUAD_CORNER_XY: 278573.17900 4993742.00400
SE_QUAD_CORNERY_XY: 278331.86200 4986799.00800
SW_QUAD_CORNER_XY: 273405.89900 4986972.03100
SECONDARY_NW_QUAD_XY: 273645.89700 4993697.90000
SECONDARY_NE_QUAD_XY: 278566.63400 4993524.87200
SECONDARY_SE_QUAD_XY: 278325.31800 4986581.93100
SECONDARY_SW_QUAD_XY: 273399.21000 4986754.95900
RMSE_XY: 2.37000
IMAGE_SOURCE: BLACK & WHITE FILM
SOURCE_IMAGE_ID: NAPP 11011 015
SOURCE_IMAGE_DATE: 1998 8 21
SOURCE_IMAGE_ID: NAPP 11011 005
SOURCE_IMAGE_DATE: 1998 8 21
SOURCE_IMAGE_ID: NAPP 11011 014
SOURCE_IMAGE_DATE: 1998 8 21
SOURCE_IMAGE_ID: NAPP 11011 013
SOURCE_IMAGE_DATE: 1998 8 21
SOURCE_IMAGE_ID: NAPP 11011 007
SOURCE_IMAGE_DATE: 1998 8 21
SOURCE_DEM_DATE: 1968 1 1
AGENCY: ROCKY MOUNTAIN MAPPING CENTER (RMMC)
PRODUCER: ROCKY MOUNTAIN MAPPING CENTER (RMMC)
PRODUCTION_SYSTEM: ImageStation OrthoPro 02.02.01.06
COMPRESSION: UNDEFINED
STANDARD_VERSION: 1996 12
METADATA_DATE: 2000 2 24
DATA_FILE_SIZE: 44930400
BYTE_COUNT: 5820
