FILENAME: O4510757.SWS.1050861.tif
QUADRANGLE_NAME: Bear Hole
QUADRANT: SW
WEST_LONGITUDE: -108 0 0.00000
EAST_LONGITUDE: -107 56 15.00000
NORTH_LATITUDE: 45 3 45.00000
SOUTH_LATITUDE: 45 0 0.00000
PRODUCTION_DATE: 2000 2 24
RASTER_ORDER: LEFT_RIGHT/TOP_BOTTOM
BAND_ORGANIZATION: SINGLE FILE
BAND_CONTENT: BLACK&WHITE
BAND_CONTENT: UNDEFINED
BAND_CONTENT: UNDEFINED
BITS_PER_PIXEL: 8
SAMPLES_AND_LINES: 5831 7727
HORIZONTAL_DATUM: NAD83
HORIZONTAL_COORDINATE_SYSTEM: UTM
COORDINATE_ZONE: 13
HORIZONTAL_UNITS: meters
HORIZONTAL_RESOLUTION: 1.00000
SECONDARY_HORIZONTAL_DATUM: NAD27
XY_ORIGIN: 263202.05000 4994572.00000
SECONDARY_XY_ORIGIN: 263247.52300 4994357.57600
NATION: US
STATE: MT
STATE: WY
NW_QUAD_CORNER_XY: 263811.40800 4994272.50000
NE_QUAD_CORNER_XY: 268731.99800 4994091.85900
SE_QUAD_CORNERY_XY: 268479.93700 4987148.86300
SW_QUAD_CORNER_XY: 263553.97400 4987329.50500
SECONDARY_NW_QUAD_XY: 263804.42600 4994055.38400
SECONDARY_NE_QUAD_XY: 268725.16100 4993874.73700
SECONDARY_SE_QUAD_XY: 268473.10200 4986931.79700
SECONDARY_SW_QUAD_XY: 263546.99400 4987112.44400
RMSE_XY: 0.00000
IMAGE_SOURCE: BLACK & WHITE FILM
SOURCE_IMAGE_ID: NAPP 11011 028
SOURCE_IMAGE_DATE: 1998 8 21
SOURCE_IMAGE_ID: NAPP 9161 033
SOURCE_IMAGE_DATE: 1998 7 12
SOURCE_IMAGE_ID: NAPP 11011 017
SOURCE_IMAGE_DATE: 1998 8 21
SOURCE_IMAGE_ID: NAPP 11011 026
SOURCE_IMAGE_DATE: 1998 8 21
SOURCE_IMAGE_ID: NAPP 11011 027
SOURCE_IMAGE_DATE: 1998 8 21
SOURCE_DEM_DATE: 1968 1 1
AGENCY: ROCKY MOUNTAIN MAPPING CENTER (RMMC)
PRODUCER: ROCKY MOUNTAIN MAPPING CENTER (RMMC)
PRODUCTION_SYSTEM: ImageStation OrthoPro 02.02.01.06
COMPRESSION: UNDEFINED
STANDARD_VERSION: 1996 12
METADATA_DATE: 2000 2 24
DATA_FILE_SIZE: 45061968
BYTE_COUNT: 5831
