FILENAME: O4510751.SES.1006806.tif
QUADRANGLE_NAME: DRY SOAP CREEK
QUADRANT: SE
WEST_LONGITUDE: -107 41 15.00000
EAST_LONGITUDE: -107 37 30.00000
NORTH_LATITUDE: 45 11 15.00000
SOUTH_LATITUDE: 45 7 30.00000
PRODUCTION_DATE: 1999 4 27
RASTER_ORDER: LEFT_RIGHT/TOP_BOTTOM
BAND_ORGANIZATION: SINGLE FILE
BAND_CONTENT: BLACK&WHITE
BAND_CONTENT: UNDEFINED
BAND_CONTENT: UNDEFINED
BITS_PER_PIXEL: 8
SAMPLES_AND_LINES: 5796 7710
HORIZONTAL_DATUM: NAD83
HORIZONTAL_COORDINATE_SYSTEM: UTM
COORDINATE_ZONE: 13
HORIZONTAL_UNITS: METERS
HORIZONTAL_RESOLUTION: 1.00000
SECONDARY_HORIZONTAL_DATUM: NAD27
XY_ORIGIN: 288292.00000 5007594.00000
SECONDARY_XY_ORIGIN: 288337.46900 5007379.18600
NATION: US
NATION: "SCIENCE
STATE: MT
NW_QUAD_CORNER_XY: 288876.27400 5007293.55500
NE_QUAD_CORNER_XY: 293786.10900 5007131.96000
SE_QUAD_CORNERY_XY: 293560.40800 5000188.84300
SW_QUAD_CORNER_XY: 288645.19200 5000350.44000
SECONDARY_NW_QUAD_XY: 288870.01600 5007076.30600
SECONDARY_NE_QUAD_XY: 293779.99600 5006914.70600
SECONDARY_SE_QUAD_XY: 293554.29700 4999971.64200
SECONDARY_SW_QUAD_XY: 288638.93500 5000133.24400
RMSE_XY: 1.30000
IMAGE_SOURCE: BLACK AND WHITE FILM
SOURCE_IMAGE_ID: NAPP 9139 011
SOURCE_IMAGE_DATE: 1996 08 26
SOURCE_IMAGE_ID: NAPP 9139 010
SOURCE_IMAGE_DATE: 1996 08 26
SOURCE_IMAGE_ID: NAPP 9139 012
SOURCE_IMAGE_DATE: 1996 08 26
SOURCE_DEM_DATE: 1968 00 00
AGENCY: WESTERN MAPPING CENTER (WMC)
PRODUCER: UNDEFINED
PRODUCTION_SYSTEM: GIS/MAGIC
COMPRESSION: UNDEFINED
STANDARD_VERSION: 1996 12
METADATA_DATE: 1999 05 18
DATA_FILE_SIZE: 44692956
BYTE_COUNT: 5796
