FILENAME: O4510746.NWS.1010761.tif
QUADRANGLE_NAME: LODGE GRASS
QUADRANT: NW
WEST_LONGITUDE: -107 22 30.00000
EAST_LONGITUDE: -107 18 45.00000
NORTH_LATITUDE: 45 22 30.00000
SOUTH_LATITUDE: 45 18 45.00000
PRODUCTION_DATE: 1999 6 10
RASTER_ORDER: LEFT_RIGHT/TOP_BOTTOM
BAND_ORGANIZATION: SINGLE FILE
BAND_CONTENT: BLACK&WHITE
BAND_CONTENT: UNDEFINED
BAND_CONTENT: UNDEFINED
BITS_PER_PIXEL: 8
SAMPLES_AND_LINES: 5753 7691
HORIZONTAL_DATUM: NAD83
HORIZONTAL_COORDINATE_SYSTEM: UTM
COORDINATE_ZONE: 13
HORIZONTAL_UNITS: METERS
HORIZONTAL_RESOLUTION: 1.00000
SECONDARY_HORIZONTAL_DATUM: NAD27
XY_ORIGIN: 313482.00000 5027654.00000
SECONDARY_XY_ORIGIN: 313526.99100 5027438.56400
NATION: US
NATION: "SCIENCE
STATE: MT
NW_QUAD_CORNER_XY: 314039.33900 5027353.40100
NE_QUAD_CORNER_XY: 318933.00900 5027210.84800
SE_QUAD_CORNERY_XY: 318733.55700 5020267.53200
SW_QUAD_CORNER_XY: 313834.49100 5020410.08800
SECONDARY_NW_QUAD_XY: 314033.80500 5027135.97400
SECONDARY_NE_QUAD_XY: 318927.62000 5026993.41700
SECONDARY_SE_QUAD_XY: 318728.16900 5020050.15100
SECONDARY_SW_QUAD_XY: 313828.95800 5020192.71200
RMSE_XY: 1.00000
IMAGE_SOURCE: BLACK AND WHITE FILM
SOURCE_IMAGE_ID: NAPP 9133 049
SOURCE_IMAGE_DATE: 1996 08 08
SOURCE_IMAGE_ID: NAPP 9133 173
SOURCE_IMAGE_DATE: 1996 08 08
SOURCE_DEM_DATE: 1966 00 00
AGENCY: WESTERN MAPPING CENTER (WMC)
PRODUCER: UNDEFINED
PRODUCTION_SYSTEM: GIS/MAGIC
COMPRESSION: UNDEFINED
STANDARD_VERSION: 1996 12
METADATA_DATE: 1999 06 15
DATA_FILE_SIZE: 44252076
BYTE_COUNT: 5753
