FILENAME: O4510743.NWS.1006852.tif
QUADRANGLE_NAME: MISSION COULEE
QUADRANT: NW
WEST_LONGITUDE: -107 45 0.00000
EAST_LONGITUDE: -107 41 15.00000
NORTH_LATITUDE: 45 22 30.00000
SOUTH_LATITUDE: 45 18 45.00000
PRODUCTION_DATE: 1999 4 23
RASTER_ORDER: LEFT_RIGHT/TOP_BOTTOM
BAND_ORGANIZATION: SINGLE FILE
BAND_CONTENT: BLACK&WHITE
BAND_CONTENT: UNDEFINED
BAND_CONTENT: UNDEFINED
BITS_PER_PIXEL: 8
SAMPLES_AND_LINES: 5786 7714
HORIZONTAL_DATUM: NAD83
HORIZONTAL_COORDINATE_SYSTEM: UTM
COORDINATE_ZONE: 13
HORIZONTAL_UNITS: METERS
HORIZONTAL_RESOLUTION: 1.00000
SECONDARY_HORIZONTAL_DATUM: NAD27
XY_ORIGIN: 284087.00000 5028589.00000
SECONDARY_XY_ORIGIN: 284132.36800 5028374.06500
NATION: US
NATION: "SCIENCE
STATE: MT
NW_QUAD_CORNER_XY: 284677.38300 5028288.65100
NE_QUAD_CORNER_XY: 289571.03500 5028123.25900
SE_QUAD_CORNERY_XY: 289339.19600 5021179.96500
SW_QUAD_CORNER_XY: 284440.14500 5021345.36200
SECONDARY_NW_QUAD_XY: 284670.97400 5028071.25200
SECONDARY_NE_QUAD_XY: 289564.77200 5027905.85400
SECONDARY_SE_QUAD_XY: 289332.93400 5020962.61100
SECONDARY_SW_QUAD_XY: 284433.73700 5021128.01300
RMSE_XY: 2.00000
IMAGE_SOURCE: BLACK AND WHITE FILM
SOURCE_IMAGE_ID: NAPP 9139 065
SOURCE_IMAGE_DATE: 1996 08 26
SOURCE_IMAGE_ID: NAPP 9139 064
SOURCE_IMAGE_DATE: 1996 08 26
SOURCE_IMAGE_ID: NAPP 9139 017
SOURCE_IMAGE_DATE: 1996 08 26
SOURCE_DEM_DATE: 1956 00 00
AGENCY: WESTERN MAPPING CENTER (WMC)
PRODUCER: UNDEFINED
PRODUCTION_SYSTEM: GIS/MAGIC
COMPRESSION: UNDEFINED
STANDARD_VERSION: 1996 12
METADATA_DATE: 1999 05 18
DATA_FILE_SIZE: 44638990
BYTE_COUNT: 5786
