FILENAME: O4510739.NWS.1010668.tif
QUADRANGLE_NAME: THOMPSON CREEK NW
QUADRANT: NW
WEST_LONGITUDE: -107 15 0.00000
EAST_LONGITUDE: -107 11 15.00000
NORTH_LATITUDE: 45 30 0.00000
SOUTH_LATITUDE: 45 26 15.00000
PRODUCTION_DATE: 1999 6 7
RASTER_ORDER: LEFT_RIGHT/TOP_BOTTOM
BAND_ORGANIZATION: SINGLE FILE
BAND_CONTENT: BLACK&WHITE
BAND_CONTENT: UNDEFINED
BAND_CONTENT: UNDEFINED
BITS_PER_PIXEL: 8
SAMPLES_AND_LINES: 5730 7682
HORIZONTAL_DATUM: NAD83
HORIZONTAL_COORDINATE_SYSTEM: UTM
COORDINATE_ZONE: 13
HORIZONTAL_UNITS: METERS
HORIZONTAL_RESOLUTION: 1.00000
SECONDARY_HORIZONTAL_DATUM: NAD27
XY_ORIGIN: 323670.00000 5041259.00000
SECONDARY_XY_ORIGIN: 323714.19500 5041042.96500
NATION: US
NATION: "SCIENCE
STATE: MT
NW_QUAD_CORNER_XY: 324215.42500 5040958.93500
NE_QUAD_CORNER_XY: 329098.29000 5040824.00100
SE_QUAD_CORNERY_XY: 328909.22000 5033880.54700
SW_QUAD_CORNER_XY: 324020.94700 5034015.48600
SECONDARY_NW_QUAD_XY: 324210.17800 5040741.40000
SECONDARY_NE_QUAD_XY: 329093.19000 5040606.46200
SECONDARY_SE_QUAD_XY: 328904.12100 5033663.05800
SECONDARY_SW_QUAD_XY: 324015.70300 5033798.00000
RMSE_XY: 1.50000
IMAGE_SOURCE: BLACK AND WHITE FILM
SOURCE_IMAGE_ID: NAPP 9098 028
SOURCE_IMAGE_DATE: 1996 07 14
SOURCE_DEM_DATE: 1967 00 00
AGENCY: WESTERN MAPPING CENTER (WMC)
PRODUCER: UNDEFINED
PRODUCTION_SYSTEM: GIS/MAGIC
COMPRESSION: UNDEFINED
STANDARD_VERSION: 1996 12
METADATA_DATE: 1999 06 09
DATA_FILE_SIZE: 44023590
BYTE_COUNT: 5730
