FILENAME: O4510737.SWS.1010654.tif
QUADRANGLE_NAME: BENTEEN
QUADRANT: SW
WEST_LONGITUDE: -107 30 0.00000
EAST_LONGITUDE: -107 26 15.00000
NORTH_LATITUDE: 45 26 15.00000
SOUTH_LATITUDE: 45 22 30.00000
PRODUCTION_DATE: 1999 6 7
RASTER_ORDER: LEFT_RIGHT/TOP_BOTTOM
BAND_ORGANIZATION: SINGLE FILE
BAND_CONTENT: BLACK&WHITE
BAND_CONTENT: UNDEFINED
BAND_CONTENT: UNDEFINED
BITS_PER_PIXEL: 8
SAMPLES_AND_LINES: 5758 7699
HORIZONTAL_DATUM: NAD83
HORIZONTAL_COORDINATE_SYSTEM: UTM
COORDINATE_ZONE: 13
HORIZONTAL_UNITS: METERS
HORIZONTAL_RESOLUTION: 1.00000
SECONDARY_HORIZONTAL_DATUM: NAD27
XY_ORIGIN: 303900.00000 5034894.00000
SECONDARY_XY_ORIGIN: 303944.97300 5034678.49800
NATION: US
NATION: "SCIENCE
STATE: MT
NW_QUAD_CORNER_XY: 304467.88600 5034593.29200
NE_QUAD_CORNER_XY: 309356.14700 5034443.13200
SE_QUAD_CORNERY_XY: 309145.67300 5027499.76000
SW_QUAD_CORNER_XY: 304252.00900 5027649.92500
SECONDARY_NW_QUAD_XY: 304462.05900 5034375.82400
SECONDARY_NE_QUAD_XY: 309350.46500 5034225.65900
SECONDARY_SE_QUAD_XY: 309139.99200 5027282.33700
SECONDARY_SW_QUAD_XY: 304246.18300 5027432.50600
RMSE_XY: 1.40000
IMAGE_SOURCE: BLACK AND WHITE FILM
SOURCE_IMAGE_ID: NAPP 9133 198
SOURCE_IMAGE_DATE: 1996 08 08
SOURCE_IMAGE_ID: NAPP 9133 196
SOURCE_IMAGE_DATE: 1996 08 08
SOURCE_IMAGE_ID: NAPP 9133 172
SOURCE_IMAGE_DATE: 1996 08 08
SOURCE_DEM_DATE: 1967 00 00
AGENCY: WESTERN MAPPING CENTER (WMC)
PRODUCER: UNDEFINED
PRODUCTION_SYSTEM: GIS/MAGIC
COMPRESSION: UNDEFINED
STANDARD_VERSION: 1996 12
METADATA_DATE: 1999 06 09
DATA_FILE_SIZE: 44336600
BYTE_COUNT: 5758
