FILENAME: O4510730.SES.927709.tif
QUADRANGLE_NAME: CROW
AGENCY SE
QUADRANT: SE
WEST_LONGITUDE: -107 18 45.00000
EAST_LONGITUDE: -107 15 0.00000
NORTH_LATITUDE: 45 33 45.00000
SOUTH_LATITUDE: 45 30 0.00000
PRODUCTION_DATE: 1997 10 28
RASTER_ORDER: LEFT_RIGHT/TOP_BOTTOM
BAND_ORGANIZATION: SINGLE FILE
BAND_CONTENT: BLACK&WHITE
BAND_CONTENT: UNDEFINED
BAND_CONTENT: UNDEFINED
BITS_PER_PIXEL: 8
SAMPLES_AND_LINES: 5728 7687
HORIZONTAL_DATUM: NAD83
HORIZONTAL_COORDINATE_SYSTEM: UTM
COORDINATE_ZONE: 13
HORIZONTAL_UNITS: METERS
HORIZONTAL_RESOLUTION: 1.00000
SECONDARY_HORIZONTAL_DATUM: NAD27
XY_ORIGIN: 318982.00000 5048342.00000
SECONDARY_XY_ORIGIN: 319026.00100 5048125.73400
NATION: US
STATE: MT
NW_QUAD_CORNER_XY: 319532.66400 5048041.18200
NE_QUAD_CORNER_XY: 324410.11200 5047902.44900
SE_QUAD_CORNERY_XY: 324215.42500 5040958.93500
SW_QUAD_CORNER_XY: 319332.56200 5041097.67400
SECONDARY_NW_QUAD_XY: 319527.27000 5047823.60300
SECONDARY_NE_QUAD_XY: 324404.86500 5047684.86600
SECONDARY_SE_QUAD_XY: 324210.17800 5040741.40000
SECONDARY_SW_QUAD_XY: 319327.17000 5040880.14300
RMSE_XY: 3.00000
IMAGE_SOURCE: BLACK AND WHITE FILM
SOURCE_IMAGE_ID: NAPP 3758 98
SOURCE_IMAGE_DATE: 1991 6 15
SOURCE_DEM_DATE: 1997 10 28
AGENCY: WESTERN MAPPING CENTER (WMC)
PRODUCER: USDA FS GEOMETRONICS SERVICE CENTER
PRODUCTION_SYSTEM: DV2.6.3 10/9OV2.4 5/95
COMPRESSION: UNDEFINED
STANDARD_VERSION: 1996 12
METADATA_DATE: 1998 6 26
DATA_FILE_SIZE: 44036864
BYTE_COUNT: 5728
