FILENAME: O4510727.NWS.1006844.tif
QUADRANGLE_NAME: HARDIN SW
QUADRANT: NW
WEST_LONGITUDE: -107 45 0.00000
EAST_LONGITUDE: -107 41 15.00000
NORTH_LATITUDE: 45 37 30.00000
SOUTH_LATITUDE: 45 33 45.00000
PRODUCTION_DATE: 1999 4 22
RASTER_ORDER: LEFT_RIGHT/TOP_BOTTOM
BAND_ORGANIZATION: SINGLE FILE
BAND_CONTENT: BLACK&WHITE
BAND_CONTENT: UNDEFINED
BAND_CONTENT: UNDEFINED
BITS_PER_PIXEL: 8
SAMPLES_AND_LINES: 5764 7714
HORIZONTAL_DATUM: NAD83
HORIZONTAL_COORDINATE_SYSTEM: UTM
COORDINATE_ZONE: 13
HORIZONTAL_UNITS: METERS
HORIZONTAL_RESOLUTION: 1.00000
SECONDARY_HORIZONTAL_DATUM: NAD27
XY_ORIGIN: 285038.00000 5056363.00000
SECONDARY_XY_ORIGIN: 285082.81600 5056147.06600
NATION: US
NATION: "SCIENCE
STATE: MT
NW_QUAD_CORNER_XY: 285628.91100 5056062.39900
NE_QUAD_CORNER_XY: 290500.90600 5055897.03100
SE_QUAD_CORNERY_XY: 290268.06200 5048953.49900
SW_QUAD_CORNER_XY: 285390.64400 5049118.87400
SECONDARY_NW_QUAD_XY: 285622.49600 5055844.80500
SECONDARY_NE_QUAD_XY: 290494.63600 5055679.43200
SECONDARY_SE_QUAD_XY: 290261.79300 5048735.94700
SECONDARY_SW_QUAD_XY: 285384.23000 5048901.32800
RMSE_XY: 1.20000
IMAGE_SOURCE: BLACK AND WHITE FILM
SOURCE_IMAGE_ID: NAPP 9139 057
SOURCE_IMAGE_DATE: 1996 08 26
SOURCE_IMAGE_ID: NAPP 9139 059
SOURCE_IMAGE_DATE: 1996 08 26
SOURCE_IMAGE_ID: NAPP 9139 058
SOURCE_IMAGE_DATE: 1996 08 26
SOURCE_IMAGE_ID: NAPP 9139 055
SOURCE_IMAGE_DATE: 1996 08 26
SOURCE_IMAGE_ID: NAPP 9139 025
SOURCE_IMAGE_DATE: 1996 08 26
SOURCE_DEM_DATE: 1958 00 00
AGENCY: WESTERN MAPPING CENTER (WMC)
PRODUCER: UNDEFINED
PRODUCTION_SYSTEM: GIS/MAGIC
COMPRESSION: UNDEFINED
STANDARD_VERSION: 1996 12
METADATA_DATE: 1999 05 18
DATA_FILE_SIZE: 44469260
BYTE_COUNT: 5764
