FILENAME: O4510726.NWS.1006733.tif
QUADRANGLE_NAME: WOODY CREEK CAMP
QUADRANT: NW
WEST_LONGITUDE: -107 52 30.00000
EAST_LONGITUDE: -107 48 45.00000
NORTH_LATITUDE: 45 37 30.00000
SOUTH_LATITUDE: 45 33 45.00000
PRODUCTION_DATE: 1999 4 22
RASTER_ORDER: LEFT_RIGHT/TOP_BOTTOM
BAND_ORGANIZATION: SINGLE FILE
BAND_CONTENT: BLACK&WHITE
BAND_CONTENT: UNDEFINED
BAND_CONTENT: UNDEFINED
BITS_PER_PIXEL: 8
SAMPLES_AND_LINES: 5776 7722
HORIZONTAL_DATUM: NAD83
HORIZONTAL_COORDINATE_SYSTEM: UTM
COORDINATE_ZONE: 13
HORIZONTAL_UNITS: METERS
HORIZONTAL_RESOLUTION: 1.00000
SECONDARY_HORIZONTAL_DATUM: NAD27
XY_ORIGIN: 275282.00000 5056705.00000
SECONDARY_XY_ORIGIN: 275327.21300 5056489.56600
NATION: US
NATION: "SCIENCE
STATE: MT
NW_QUAD_CORNER_XY: 275884.93900 5056404.55800
NE_QUAD_CORNER_XY: 280756.92200 5056231.57500
SE_QUAD_CORNERY_XY: 280513.23100 5049288.05700
SW_QUAD_CORNER_XY: 275635.82300 5049461.04800
SECONDARY_NW_QUAD_XY: 275878.23100 5056186.97500
SECONDARY_NE_QUAD_XY: 280750.36000 5056013.98600
SECONDARY_SE_QUAD_XY: 280506.67100 5049070.51600
SECONDARY_SW_QUAD_XY: 275629.11800 5049243.51200
RMSE_XY: 1.40000
IMAGE_SOURCE: BLACK AND WHITE FILM
SOURCE_IMAGE_ID: NAPP 9132 010
SOURCE_IMAGE_DATE: 1996 07 29
SOURCE_IMAGE_ID: NAPP 9132 008
SOURCE_IMAGE_DATE: 1996 07 29
SOURCE_IMAGE_ID: NAPP 9132 012
SOURCE_IMAGE_DATE: 1996 07 29
SOURCE_IMAGE_ID: NAPP 9131 298
SOURCE_IMAGE_DATE: 1996 07 29
SOURCE_DEM_DATE: 1968 00 00
AGENCY: WESTERN MAPPING CENTER (WMC)
PRODUCER: UNDEFINED
PRODUCTION_SYSTEM: GIS/MAGIC
COMPRESSION: UNDEFINED
STANDARD_VERSION: 1996 12
METADATA_DATE: 1999 05 18
DATA_FILE_SIZE: 44608048
BYTE_COUNT: 5776
