FILENAME: O4510725.SES.1006501.tif
QUADRANGLE_NAME: BENTONITE FLATS
QUADRANT: SE
WEST_LONGITUDE: -107 56 15.00000
EAST_LONGITUDE: -107 52 30.00000
NORTH_LATITUDE: 45 33 45.00000
SOUTH_LATITUDE: 45 30 0.00000
PRODUCTION_DATE: 1999 4 22
RASTER_ORDER: LEFT_RIGHT/TOP_BOTTOM
BAND_ORGANIZATION: SINGLE FILE
BAND_CONTENT: BLACK&WHITE
BAND_CONTENT: UNDEFINED
BAND_CONTENT: UNDEFINED
BITS_PER_PIXEL: 8
SAMPLES_AND_LINES: 5787 7725
HORIZONTAL_DATUM: NAD83
HORIZONTAL_COORDINATE_SYSTEM: UTM
COORDINATE_ZONE: 13
HORIZONTAL_UNITS: METERS
HORIZONTAL_RESOLUTION: 1.00000
SECONDARY_HORIZONTAL_DATUM: NAD27
XY_ORIGIN: 270150.00000 5049938.00000
SECONDARY_XY_ORIGIN: 270195.47800 5049722.98000
NATION: US
NATION: "SCIENCE
STATE: MT
NW_QUAD_CORNER_XY: 270758.42100 5049637.84800
NE_QUAD_CORNER_XY: 275635.82300 5049461.04800
SE_QUAD_CORNERY_XY: 275386.97700 5042517.59500
SW_QUAD_CORNER_XY: 270504.15500 5042694.40200
SECONDARY_NW_QUAD_XY: 270751.56900 5049420.31700
SECONDARY_NE_QUAD_XY: 275629.11800 5049243.51200
SECONDARY_SE_QUAD_XY: 275380.27300 5042300.10700
SECONDARY_SW_QUAD_XY: 270497.30500 5042476.91900
RMSE_XY: 1.20000
IMAGE_SOURCE: BLACK AND WHITE FILM
SOURCE_IMAGE_ID: NAPP 9132 008
SOURCE_IMAGE_DATE: 1996 07 29
SOURCE_IMAGE_ID: NAPP 9151 033
SOURCE_IMAGE_DATE: 1996 09 11
SOURCE_IMAGE_ID: NAPP 9139 125
SOURCE_IMAGE_DATE: 1996 08 26
SOURCE_IMAGE_ID: NAPP 9139 128
SOURCE_IMAGE_DATE: 1996 08 26
SOURCE_IMAGE_ID: NAPP 9139 129
SOURCE_IMAGE_DATE: 1996 08 26
SOURCE_DEM_DATE: 1968 00 00
AGENCY: WESTERN MAPPING CENTER (WMC)
PRODUCER: UNDEFINED
PRODUCTION_SYSTEM: GIS/MAGIC
COMPRESSION: UNDEFINED
STANDARD_VERSION: 1996 12
METADATA_DATE: 1999 05 18
DATA_FILE_SIZE: 44710362
BYTE_COUNT: 5787
