FILENAME: O4510725.SWS.1006502.tif
QUADRANGLE_NAME: BENTONITE FLATS
QUADRANT: SW
WEST_LONGITUDE: -108 0 0.00000
EAST_LONGITUDE: -107 56 15.00000
NORTH_LATITUDE: 45 33 45.00000
SOUTH_LATITUDE: 45 30 0.00000
PRODUCTION_DATE: 1999 4 22
RASTER_ORDER: LEFT_RIGHT/TOP_BOTTOM
BAND_ORGANIZATION: SINGLE FILE
BAND_CONTENT: BLACK&WHITE
BAND_CONTENT: UNDEFINED
BAND_CONTENT: UNDEFINED
BITS_PER_PIXEL: 8
SAMPLES_AND_LINES: 5793 7730
HORIZONTAL_DATUM: NAD83
HORIZONTAL_COORDINATE_SYSTEM: UTM
COORDINATE_ZONE: 13
HORIZONTAL_UNITS: METERS
HORIZONTAL_RESOLUTION: 1.00000
SECONDARY_HORIZONTAL_DATUM: NAD27
XY_ORIGIN: 265267.00000 5050119.00000
SECONDARY_XY_ORIGIN: 265312.62700 5049904.15300
NATION: US
NATION: "SCIENCE
STATE: MT
NW_QUAD_CORNER_XY: 265881.02400 5049818.45600
NE_QUAD_CORNER_XY: 270758.42100 5049637.84800
SE_QUAD_CORNERY_XY: 270504.15500 5042694.40200
SW_QUAD_CORNER_XY: 265621.33800 5042875.01700
SECONDARY_NW_QUAD_XY: 265874.02600 5049600.93000
SECONDARY_NE_QUAD_XY: 270751.56900 5049420.31700
SECONDARY_SE_QUAD_XY: 270497.30500 5042476.91900
SECONDARY_SW_QUAD_XY: 265614.34300 5042657.53900
RMSE_XY: 1.40000
IMAGE_SOURCE: BLACK AND WHITE FILM
SOURCE_IMAGE_ID: NAPP 9151 033
SOURCE_IMAGE_DATE: 1996 09 11
SOURCE_DEM_DATE: 1968 00 00
AGENCY: WESTERN MAPPING CENTER (WMC)
PRODUCER: UNDEFINED
PRODUCTION_SYSTEM: GIS/MAGIC
COMPRESSION: UNDEFINED
STANDARD_VERSION: 1996 12
METADATA_DATE: 1999 05 18
DATA_FILE_SIZE: 44785683
BYTE_COUNT: 5793
