FILENAME: O4510718.NES.1006722.tif
QUADRANGLE_NAME: ROWLEY
QUADRANT: NE
WEST_LONGITUDE: -107 48 45.00000
EAST_LONGITUDE: -107 45 0.00000
NORTH_LATITUDE: 45 45 0.00000
SOUTH_LATITUDE: 45 41 15.00000
PRODUCTION_DATE: 1999 4 23
RASTER_ORDER: LEFT_RIGHT/TOP_BOTTOM
BAND_ORGANIZATION: SINGLE FILE
BAND_CONTENT: BLACK&WHITE
BAND_CONTENT: UNDEFINED
BAND_CONTENT: UNDEFINED
BITS_PER_PIXEL: 8
SAMPLES_AND_LINES: 5760 7717
HORIZONTAL_DATUM: NAD83
HORIZONTAL_COORDINATE_SYSTEM: UTM
COORDINATE_ZONE: 13
HORIZONTAL_UNITS: METERS
HORIZONTAL_RESOLUTION: 1.00000
SECONDARY_HORIZONTAL_DATUM: NAD27
XY_ORIGIN: 280648.00000 5070419.00000
SECONDARY_XY_ORIGIN: 280692.67400 5070202.65900
NATION: US
NATION: "SCIENCE
STATE: MT
NW_QUAD_CORNER_XY: 281245.09000 5070118.78400
NE_QUAD_CORNER_XY: 286106.21500 5069949.62600
SE_QUAD_CORNERY_XY: 285867.43500 5063005.98300
SW_QUAD_CORNER_XY: 281000.87500 5063175.15100
SECONDARY_NW_QUAD_XY: 281238.52600 5069901.10300
SECONDARY_NE_QUAD_XY: 286099.79600 5069731.94000
SECONDARY_SE_QUAD_XY: 285861.01800 5062788.34300
SECONDARY_SW_QUAD_XY: 280994.31200 5062957.51500
RMSE_XY: 1.10000
IMAGE_SOURCE: BLACK AND WHITE FILM
SOURCE_IMAGE_ID: NAPP 9131 294
SOURCE_IMAGE_DATE: 1996 07 29
SOURCE_DEM_DATE: 1968 00 00
AGENCY: WESTERN MAPPING CENTER (WMC)
PRODUCER: UNDEFINED
PRODUCTION_SYSTEM: GIS/MAGIC
COMPRESSION: UNDEFINED
STANDARD_VERSION: 1996 12
METADATA_DATE: 1999 05 18
DATA_FILE_SIZE: 44455680
BYTE_COUNT: 5760
