FILENAME: O4510716.NES.1010631.tif
QUADRANGLE_NAME: WOLF SCHOOL
QUADRANT: NE
WEST_LONGITUDE: -107 3 45.00000
EAST_LONGITUDE: -107 0 0.00000
NORTH_LATITUDE: 45 52 30.00000
SOUTH_LATITUDE: 45 48 45.00000
PRODUCTION_DATE: 1999 5 24
RASTER_ORDER: LEFT_RIGHT/TOP_BOTTOM
BAND_ORGANIZATION: SINGLE FILE
BAND_CONTENT: BLACK&WHITE
BAND_CONTENT: UNDEFINED
BAND_CONTENT: UNDEFINED
BITS_PER_PIXEL: 8
SAMPLES_AND_LINES: 5679 7670
HORIZONTAL_DATUM: NAD83
HORIZONTAL_COORDINATE_SYSTEM: UTM
COORDINATE_ZONE: 13
HORIZONTAL_UNITS: METERS
HORIZONTAL_RESOLUTION: 1.00000
SECONDARY_HORIZONTAL_DATUM: NAD27
XY_ORIGIN: 339410.00000 5082528.00000
SECONDARY_XY_ORIGIN: 339452.11800 5082310.31000
NATION: US
NATION: "SCIENCE
STATE: MT
NW_QUAD_CORNER_XY: 339937.61300 5082227.71600
NE_QUAD_CORNER_XY: 344787.93000 5082104.23200
SE_QUAD_CORNERY_XY: 344613.96000 5075160.36300
SW_QUAD_CORNER_XY: 339758.20300 5075283.85500
SECONDARY_NW_QUAD_XY: 339932.79700 5082009.89300
SECONDARY_NE_QUAD_XY: 344783.26000 5081886.40500
SECONDARY_SE_QUAD_XY: 344609.29200 5074942.58000
SECONDARY_SW_QUAD_XY: 339753.38800 5075066.07600
RMSE_XY: 1.00000
IMAGE_SOURCE: BLACK AND WHITE FILM
SOURCE_IMAGE_ID: NAPP 9099 137
SOURCE_IMAGE_DATE: 1996 07 14
SOURCE_IMAGE_ID: NAPP 9099 194
SOURCE_IMAGE_DATE: 1996 07 14
SOURCE_IMAGE_ID: NAPP 9099 136
SOURCE_IMAGE_DATE: 1996 07 14
SOURCE_IMAGE_ID: NAPP 9099 042
SOURCE_IMAGE_DATE: 1996 07 14
SOURCE_DEM_DATE: 1971 00 00
AGENCY: WESTERN MAPPING CENTER (WMC)
PRODUCER: UNDEFINED
PRODUCTION_SYSTEM: GIS/MAGIC
COMPRESSION: UNDEFINED
STANDARD_VERSION: 1996 12
METADATA_DATE: 1999 06 07
DATA_FILE_SIZE: 43563609
BYTE_COUNT: 5679
