FILENAME: O4510716.NWS.1010632.tif
QUADRANGLE_NAME: WOLF SCHOOL
QUADRANT: NW
WEST_LONGITUDE: -107 7 30.00000
EAST_LONGITUDE: -107 3 45.00000
NORTH_LATITUDE: 45 52 30.00000
SOUTH_LATITUDE: 45 48 45.00000
PRODUCTION_DATE: 1999 5 24
RASTER_ORDER: LEFT_RIGHT/TOP_BOTTOM
BAND_ORGANIZATION: SINGLE FILE
BAND_CONTENT: BLACK&WHITE
BAND_CONTENT: UNDEFINED
BAND_CONTENT: UNDEFINED
BITS_PER_PIXEL: 8
SAMPLES_AND_LINES: 5685 7675
HORIZONTAL_DATUM: NAD83
HORIZONTAL_COORDINATE_SYSTEM: UTM
COORDINATE_ZONE: 13
HORIZONTAL_UNITS: METERS
HORIZONTAL_RESOLUTION: 1.00000
SECONDARY_HORIZONTAL_DATUM: NAD27
XY_ORIGIN: 334554.00000 5082656.00000
SECONDARY_XY_ORIGIN: 334596.30500 5082438.33800
NATION: US
NATION: "SCIENCE
STATE: MT
NW_QUAD_CORNER_XY: 335087.30200 5082355.00300
NE_QUAD_CORNER_XY: 339937.61300 5082227.71600
SE_QUAD_CORNERY_XY: 339758.20300 5075283.85500
SW_QUAD_CORNER_XY: 334902.45000 5075411.15000
SECONDARY_NW_QUAD_XY: 335082.34000 5082137.18300
SECONDARY_NE_QUAD_XY: 339932.79700 5082009.89300
SECONDARY_SE_QUAD_XY: 339753.38800 5075066.07600
SECONDARY_SW_QUAD_XY: 334897.49000 5075193.37400
RMSE_XY: 1.40000
IMAGE_SOURCE: BLACK AND WHITE FILM
SOURCE_IMAGE_ID: NAPP 9099 195
SOURCE_IMAGE_DATE: 1996 07 14
SOURCE_IMAGE_ID: NAPP 9100 049
SOURCE_IMAGE_DATE: 1996 07 14
SOURCE_IMAGE_ID: NAPP 9099 194
SOURCE_IMAGE_DATE: 1996 07 14
SOURCE_IMAGE_ID: NAPP 9099 196
SOURCE_IMAGE_DATE: 1996 07 14
SOURCE_DEM_DATE: 1971 00 00
AGENCY: WESTERN MAPPING CENTER (WMC)
PRODUCER: UNDEFINED
PRODUCTION_SYSTEM: GIS/MAGIC
COMPRESSION: UNDEFINED
STANDARD_VERSION: 1996 12
METADATA_DATE: 1999 06 07
DATA_FILE_SIZE: 43638060
BYTE_COUNT: 5685
