FILENAME: O4510714.SWS.1010614.tif
QUADRANGLE_NAME: PADLOCK RANCH
QUADRANT: SW
WEST_LONGITUDE: -107 22 30.00000
EAST_LONGITUDE: -107 18 45.00000
NORTH_LATITUDE: 45 48 45.00000
SOUTH_LATITUDE: 45 45 0.00000
PRODUCTION_DATE: 1999 5 20
RASTER_ORDER: LEFT_RIGHT/TOP_BOTTOM
BAND_ORGANIZATION: SINGLE FILE
BAND_CONTENT: BLACK&WHITE
BAND_CONTENT: UNDEFINED
BAND_CONTENT: UNDEFINED
BITS_PER_PIXEL: 8
SAMPLES_AND_LINES: 5714 7690
HORIZONTAL_DATUM: NAD83
HORIZONTAL_COORDINATE_SYSTEM: UTM
COORDINATE_ZONE: 13
HORIZONTAL_UNITS: METERS
HORIZONTAL_RESOLUTION: 1.00000
SECONDARY_HORIZONTAL_DATUM: NAD27
XY_ORIGIN: 314923.00000 5076259.00000
SECONDARY_XY_ORIGIN: 314966.04300 5076041.62300
NATION: US
NATION: "SCIENCE
STATE: MT
NW_QUAD_CORNER_XY: 315479.49600 5075958.36400
NE_QUAD_CORNER_XY: 320335.22600 5075815.85400
SE_QUAD_CORNERY_XY: 320134.26200 5068872.09000
SW_QUAD_CORNER_XY: 315273.09500 5069014.60800
SECONDARY_NW_QUAD_XY: 315473.95200 5075740.60500
SECONDARY_NE_QUAD_XY: 320329.82800 5075598.09100
SECONDARY_SE_QUAD_XY: 320128.86500 5068654.37200
SECONDARY_SW_QUAD_XY: 315267.55200 5068796.89400
RMSE_XY: 2.40000
IMAGE_SOURCE: BLACK AND WHITE FILM
SOURCE_IMAGE_ID: NAPP 9133 063
SOURCE_IMAGE_DATE: 1996 08 08
SOURCE_IMAGE_ID: NAPP 9133 159
SOURCE_IMAGE_DATE: 1996 08 08
SOURCE_IMAGE_ID: NAPP 9133 064
SOURCE_IMAGE_DATE: 1996 08 08
SOURCE_DEM_DATE: 1971 00 00
AGENCY: WESTERN MAPPING CENTER (WMC)
PRODUCER: UNDEFINED
PRODUCTION_SYSTEM: GIS/MAGIC
COMPRESSION: UNDEFINED
STANDARD_VERSION: 1996 12
METADATA_DATE: 1999 06 07
DATA_FILE_SIZE: 43946374
BYTE_COUNT: 5714
