FILENAME: O4510706.SWS.1010662.tif
QUADRANGLE_NAME: HAMMOND RANCH
QUADRANT: SW
WEST_LONGITUDE: -107 22 30.00000
EAST_LONGITUDE: -107 18 45.00000
NORTH_LATITUDE: 45 56 15.00000
SOUTH_LATITUDE: 45 52 30.00000
PRODUCTION_DATE: 1999 6 1
RASTER_ORDER: LEFT_RIGHT/TOP_BOTTOM
BAND_ORGANIZATION: SINGLE FILE
BAND_CONTENT: BLACK&WHITE
BAND_CONTENT: UNDEFINED
BAND_CONTENT: UNDEFINED
BITS_PER_PIXEL: 8
SAMPLES_AND_LINES: 5703 7690
HORIZONTAL_DATUM: NAD83
HORIZONTAL_COORDINATE_SYSTEM: UTM
COORDINATE_ZONE: 13
HORIZONTAL_UNITS: METERS
HORIZONTAL_RESOLUTION: 1.00000
SECONDARY_HORIZONTAL_DATUM: NAD27
XY_ORIGIN: 315336.00000 5090147.00000
SECONDARY_XY_ORIGIN: 315378.73100 5089929.18400
NATION: US
NATION: "SCIENCE
STATE: MT
NW_QUAD_CORNER_XY: 315892.96100 5089846.06500
NE_QUAD_CORNER_XY: 320737.79900 5089703.57400
SE_QUAD_CORNERY_XY: 320536.40500 5082759.68200
SW_QUAD_CORNER_XY: 315686.11800 5082902.18300
SECONDARY_NW_QUAD_XY: 315887.41400 5089628.21900
SECONDARY_NE_QUAD_XY: 320732.39800 5089485.72400
SECONDARY_SE_QUAD_XY: 320531.00500 5082541.87500
SECONDARY_SW_QUAD_XY: 315680.57300 5082684.38000
RMSE_XY: 1.20000
IMAGE_SOURCE: BLACK AND WHITE FILM
SOURCE_IMAGE_ID: NAPP 9133 067
SOURCE_IMAGE_DATE: 1996 08 08
SOURCE_DEM_DATE: 1971 00 00
AGENCY: WESTERN MAPPING CENTER (WMC)
PRODUCER: UNDEFINED
PRODUCTION_SYSTEM: GIS/MAGIC
COMPRESSION: UNDEFINED
STANDARD_VERSION: 1996 12
METADATA_DATE: 1999 06 09
DATA_FILE_SIZE: 43861773
BYTE_COUNT: 5703
