FILENAME: O4510863.SES.927729.tif
QUADRANGLE_NAME: HILLSBORO
QUADRANT: SE
WEST_LONGITUDE: -108 11 15.00000
EAST_LONGITUDE: -108 7 30.00000
NORTH_LATITUDE: 45 3 45.00000
SOUTH_LATITUDE: 45 0 0.00000
PRODUCTION_DATE: 1997 10 28
RASTER_ORDER: LEFT_RIGHT/TOP_BOTTOM
BAND_ORGANIZATION: SINGLE FILE
BAND_CONTENT: BLACK&WHITE
BAND_CONTENT: UNDEFINED
BAND_CONTENT: UNDEFINED
BITS_PER_PIXEL: 8
SAMPLES_AND_LINES: 5822 7727
HORIZONTAL_DATUM: NAD83
HORIZONTAL_COORDINATE_SYSTEM: UTM
COORDINATE_ZONE: 12
HORIZONTAL_UNITS: METERS
HORIZONTAL_RESOLUTION: 1.00000
SECONDARY_HORIZONTAL_DATUM: NAD27
XY_ORIGIN: 721073.00000 4994220.00000
SECONDARY_XY_ORIGIN: 721132.09000 4994009.55000
NATION: US
STATE: MT
STATE: WY
NW_QUAD_CORNER_XY: 721426.89000 4993741.97000
NE_QUAD_CORNER_XY: 726347.48000 4993914.99000
SE_QUAD_CORNERY_XY: 726594.17000 4986971.99000
SW_QUAD_CORNER_XY: 721668.21000 4986798.97000
SECONDARY_NW_QUAD_XY: 721433.43000 4993524.84000
SECONDARY_NE_QUAD_XY: 726354.17000 4993697.86000
SECONDARY_SE_QUAD_XY: 726600.86000 4986754.92000
SECONDARY_SW_QUAD_XY: 721674.75000 4986581.89000
RMSE_XY: 1.40000
IMAGE_SOURCE: BLACK AND WHITE FILM
SOURCE_IMAGE_ID: NAPP 7801 126
SOURCE_IMAGE_DATE: 1994 7 11
SOURCE_IMAGE_ID: NAPP 7801 127
SOURCE_IMAGE_DATE: 1994 7 11
SOURCE_IMAGE_ID: NAPP 7801 128
SOURCE_IMAGE_DATE: 1994 7 11
SOURCE_IMAGE_ID: NAPP 7801 118
SOURCE_IMAGE_DATE: 1994 7 11
SOURCE_DEM_DATE: 1997 10 28
AGENCY: WESTERN MAPPING CENTER (WMC)
PRODUCER: USDA FS GEOMETRONICS SERVICE CENTER
PRODUCTION_SYSTEM: DV2.6.3 10/9OV2.4 5/95
COMPRESSION: UNDEFINED
STANDARD_VERSION: 1996 12
METADATA_DATE: 1998 6 26
DATA_FILE_SIZE: 44992416
BYTE_COUNT: 5822
