FILENAME: O4510856.SES.927069.tif
QUADRANGLE_NAME: LITTLE FINGER RIDGE
QUADRANT: SE
WEST_LONGITUDE: -108 3 45.00000
EAST_LONGITUDE: -108 0 0.00000
NORTH_LATITUDE: 45 11 15.00000
SOUTH_LATITUDE: 45 7 30.00000
PRODUCTION_DATE: 1997 11 26
RASTER_ORDER: LEFT_RIGHT/TOP_BOTTOM
BAND_ORGANIZATION: SINGLE FILE
BAND_CONTENT: BLACK&WHITE
BAND_CONTENT: UNDEFINED
BAND_CONTENT: UNDEFINED
BITS_PER_PIXEL: 8
SAMPLES_AND_LINES: 5821 7735
HORIZONTAL_DATUM: NAD83
HORIZONTAL_COORDINATE_SYSTEM: UTM
COORDINATE_ZONE: 12
HORIZONTAL_UNITS: METERS
HORIZONTAL_RESOLUTION: 1.00000
SECONDARY_HORIZONTAL_DATUM: NAD27
XY_ORIGIN: 730410.00000 5008464.00000
SECONDARY_XY_ORIGIN: 730469.15000 5008253.32000
NATION: US
STATE: MT
NW_QUAD_CORNER_XY: 730763.12000 5007977.98000
NE_QUAD_CORNER_XY: 735672.94000 5008158.62000
SE_QUAD_CORNERY_XY: 735930.94000 5001215.51000
SW_QUAD_CORNER_XY: 731015.73000 5001034.87000
SECONDARY_NW_QUAD_XY: 730769.96000 5007760.75000
SECONDARY_NE_QUAD_XY: 735679.93000 5007941.40000
SECONDARY_SE_QUAD_XY: 735937.93000 5000998.34000
SECONDARY_SW_QUAD_XY: 731022.57000 5000817.70000
RMSE_XY: 2.90000
IMAGE_SOURCE: BLACK AND WHITE FILM
SOURCE_IMAGE_ID: NAPP 9142 27
SOURCE_IMAGE_DATE: 1996 8 24
SOURCE_IMAGE_ID: NAPP 9142 26
SOURCE_IMAGE_DATE: 1996 8 24
SOURCE_DEM_DATE: 1997 11 26
AGENCY: WESTERN MAPPING CENTER (WMC)
PRODUCER: USDA FS GEOMETRONICS SERVICE CENTER
PRODUCTION_SYSTEM: DV2.6.3 10/9OV2.4 5/95
COMPRESSION: UNDEFINED
STANDARD_VERSION: 1996 12
METADATA_DATE: 1998 4 3
DATA_FILE_SIZE: 45031256
BYTE_COUNT: 5821
