FILENAME: O4510855.SES.927725.tif
QUADRANGLE_NAME: DEAD INDIAN HILL
QUADRANT: SE
WEST_LONGITUDE: -108 11 15.00000
EAST_LONGITUDE: -108 7 30.00000
NORTH_LATITUDE: 45 11 15.00000
SOUTH_LATITUDE: 45 7 30.00000
PRODUCTION_DATE: 1997 11 13
RASTER_ORDER: LEFT_RIGHT/TOP_BOTTOM
BAND_ORGANIZATION: SINGLE FILE
BAND_CONTENT: BLACK&WHITE
BAND_CONTENT: UNDEFINED
BAND_CONTENT: UNDEFINED
BITS_PER_PIXEL: 8
SAMPLES_AND_LINES: 5813 7727
HORIZONTAL_DATUM: NAD83
HORIZONTAL_COORDINATE_SYSTEM: UTM
COORDINATE_ZONE: 12
HORIZONTAL_UNITS: METERS
HORIZONTAL_RESOLUTION: 1.00000
SECONDARY_HORIZONTAL_DATUM: NAD27
XY_ORIGIN: 720590.00000 5008106.00000
SECONDARY_XY_ORIGIN: 720649.12000 5007895.35000
NATION: US
STATE: MT
NW_QUAD_CORNER_XY: 720943.46000 5007628.13000
NE_QUAD_CORNER_XY: 725853.29000 5007801.15000
SE_QUAD_CORNERY_XY: 726100.52000 5000858.04000
SW_QUAD_CORNER_XY: 721185.31000 5000685.02000
SECONDARY_NW_QUAD_XY: 720950.01000 5007410.89000
SECONDARY_NE_QUAD_XY: 725859.98000 5007583.92000
SECONDARY_SE_QUAD_XY: 726107.21000 5000640.86000
SECONDARY_SW_QUAD_XY: 721191.85000 5000467.83000
RMSE_XY: 1.40000
IMAGE_SOURCE: BLACK AND WHITE FILM
SOURCE_IMAGE_ID: NAPP 9143 11
SOURCE_IMAGE_DATE: 1994 7 11
SOURCE_IMAGE_ID: NAPP 9143 12
SOURCE_IMAGE_DATE: 1994 7 11
SOURCE_IMAGE_ID: NAPP 9143 9146
SOURCE_IMAGE_DATE: 1994 7 11
SOURCE_IMAGE_ID: NAPP 9143 71
SOURCE_IMAGE_DATE: 1994 7 11
SOURCE_DEM_DATE: 1997 11 13
AGENCY: WESTERN MAPPING CENTER (WMC)
PRODUCER: USDA FS GEOMETRONICS SERVICE CENTER
PRODUCTION_SYSTEM: DV2.6.3 10/9OV2.4 5/95
COMPRESSION: UNDEFINED
STANDARD_VERSION: 1996 12
METADATA_DATE: 1998 6 26
DATA_FILE_SIZE: 44922864
BYTE_COUNT: 5813
