FILENAME: O4510849.NES.1007158.tif
QUADRANGLE_NAME: HATCHER PASS
QUADRANT: NE
WEST_LONGITUDE: -108 56 15.00000
EAST_LONGITUDE: -108 52 30.00000
NORTH_LATITUDE: 45 15 0.00000
SOUTH_LATITUDE: 45 11 15.00000
PRODUCTION_DATE: 1999 4 13
RASTER_ORDER: LEFT_RIGHT/TOP_BOTTOM
BAND_ORGANIZATION: SINGLE FILE
BAND_CONTENT: BLACK&WHITE
BAND_CONTENT: UNDEFINED
BAND_CONTENT: UNDEFINED
BITS_PER_PIXEL: 8
SAMPLES_AND_LINES: 5745 7681
HORIZONTAL_DATUM: NAD83
HORIZONTAL_COORDINATE_SYSTEM: UTM
COORDINATE_ZONE: 12
HORIZONTAL_UNITS: METERS
HORIZONTAL_RESOLUTION: 1.00000
SECONDARY_HORIZONTAL_DATUM: NAD27
XY_ORIGIN: 661492.00000 5013220.00000
SECONDARY_XY_ORIGIN: 661551.50000 5013009.92700
NATION: US
NATION: "SCIENCE
STATE: MT
NW_QUAD_CORNER_XY: 661847.83400 5012792.09600
NE_QUAD_CORNER_XY: 666752.29800 5012919.43400
SE_QUAD_CORNERY_XY: 666935.16400 5005976.24000
SW_QUAD_CORNER_XY: 662025.31700 5005848.89900
SECONDARY_NW_QUAD_XY: 661852.63800 5012574.75100
SECONDARY_NE_QUAD_XY: 666757.24700 5012702.09300
SECONDARY_SE_QUAD_XY: 666940.11200 5005758.95100
SECONDARY_SW_QUAD_XY: 662030.12000 5005631.60700
RMSE_XY: 2.10000
IMAGE_SOURCE: BLACK AND WHITE FILM
SOURCE_IMAGE_ID: NAPP 9147 043
SOURCE_IMAGE_DATE: 1996 08 24
SOURCE_IMAGE_ID: NAPP 9147 287
SOURCE_IMAGE_DATE: 1996 08 24
SOURCE_IMAGE_ID: NAPP 9147 044
SOURCE_IMAGE_DATE: 1996 08 24
SOURCE_IMAGE_ID: NAPP 9147 029
SOURCE_IMAGE_DATE: 1996 08 24
SOURCE_DEM_DATE: 1998 00 00
AGENCY: WESTERN MAPPING CENTER (WMC)
PRODUCER: UNDEFINED
PRODUCTION_SYSTEM: GIS/MAGIC
COMPRESSION: UNDEFINED
STANDARD_VERSION: 1996 12
METADATA_DATE: 1999 04 28
DATA_FILE_SIZE: 44133090
BYTE_COUNT: 5745
