FILENAME: O4510848.NWS.927064.tif
QUADRANGLE_NAME: GRAPEVINE DOME
QUADRANT: NW
WEST_LONGITUDE: -108 7 30.00000
EAST_LONGITUDE: -108 3 45.00000
NORTH_LATITUDE: 45 22 30.00000
SOUTH_LATITUDE: 45 18 45.00000
PRODUCTION_DATE: 1997 11 26
RASTER_ORDER: LEFT_RIGHT/TOP_BOTTOM
BAND_ORGANIZATION: SINGLE FILE
BAND_CONTENT: BLACK&WHITE
BAND_CONTENT: UNDEFINED
BAND_CONTENT: UNDEFINED
BITS_PER_PIXEL: 8
SAMPLES_AND_LINES: 5800 7730
HORIZONTAL_DATUM: NAD83
HORIZONTAL_COORDINATE_SYSTEM: UTM
COORDINATE_ZONE: 12
HORIZONTAL_UNITS: METERS
HORIZONTAL_RESOLUTION: 1.00000
SECONDARY_HORIZONTAL_DATUM: NAD27
XY_ORIGIN: 724756.00000 5029109.00000
SECONDARY_XY_ORIGIN: 724815.00000 5028898.00000
NATION: US
STATE: MT
NW_QUAD_CORNER_XY: 725109.91000 5028630.86200
NE_QUAD_CORNER_XY: 730003.55200 5028807.68000
SE_QUAD_CORNERY_XY: 730256.99300 5021864.40300
SW_QUAD_CORNER_XY: 725357.95000 5021687.58000
SECONDARY_NW_QUAD_XY: 725116.61100 5028413.47300
SECONDARY_NE_QUAD_XY: 730010.39900 5028590.29600
SECONDARY_SE_QUAD_XY: 730263.83800 5021647.06900
SECONDARY_SW_QUAD_XY: 725364.64900 5021470.24200
RMSE_XY: 1.50000
IMAGE_SOURCE: BLACK AND WHITE FILM
SOURCE_IMAGE_ID: NAPP 9142 270
SOURCE_IMAGE_DATE: 1996 8 24
SOURCE_DEM_DATE: 1997 11 26
AGENCY: WESTERN MAPPING CENTER (WMC)
PRODUCER: USDA FS GEOMETRONICS SERVICE CENTER
PRODUCTION_SYSTEM: DV2.6.3 10/9OV2.4 5/95
COMPRESSION: UNDEFINED
STANDARD_VERSION: 1996 12
METADATA_DATE: 1998 4 3
DATA_FILE_SIZE: 44839800
BYTE_COUNT: 5800
