FILENAME: O4510845.NWS.1050847.tif
QUADRANGLE_NAME: Deep Creek SW
QUADRANT: NW
WEST_LONGITUDE: -108 30 0.00000
EAST_LONGITUDE: -108 26 15.00000
NORTH_LATITUDE: 45 22 30.00000
SOUTH_LATITUDE: 45 18 45.00000
PRODUCTION_DATE: 2000 2 25
RASTER_ORDER: LEFT_RIGHT/TOP_BOTTOM
BAND_ORGANIZATION: SINGLE FILE
BAND_CONTENT: BLACK&WHITE
BAND_CONTENT: UNDEFINED
BAND_CONTENT: UNDEFINED
BITS_PER_PIXEL: 8
SAMPLES_AND_LINES: 5769 7705
HORIZONTAL_DATUM: NAD83
HORIZONTAL_COORDINATE_SYSTEM: UTM
COORDINATE_ZONE: 12
HORIZONTAL_UNITS: meters
HORIZONTAL_RESOLUTION: 1.00000
SECONDARY_HORIZONTAL_DATUM: NAD27
XY_ORIGIN: 695395.10000 5028103.40000
SECONDARY_XY_ORIGIN: 695454.32500 5027892.93200
NATION: US
STATE: MT
NW_QUAD_CORNER_XY: 695747.99100 5027649.92500
NE_QUAD_CORNER_XY: 700641.65200 5027803.89600
SE_QUAD_CORNERY_XY: 700862.69300 5020860.59400
SW_QUAD_CORNER_XY: 695963.63400 5020706.61900
SECONDARY_NW_QUAD_XY: 695753.81700 5027432.50700
SECONDARY_NE_QUAD_XY: 700647.62400 5027586.48300
SECONDARY_SE_QUAD_XY: 700868.66400 5020643.23100
SECONDARY_SW_QUAD_XY: 695969.45900 5020489.25200
RMSE_XY: 1.70000
IMAGE_SOURCE: BLACK & WHITE FILM
SOURCE_IMAGE_ID: NAPP 9161 075
SOURCE_IMAGE_DATE: 1998 7 12
SOURCE_IMAGE_ID: NAPP 9161 074
SOURCE_IMAGE_DATE: 1998 7 12
SOURCE_IMAGE_ID: NAPP 9161 070
SOURCE_IMAGE_DATE: 1998 7 12
SOURCE_IMAGE_ID: NAPP 9161 073
SOURCE_IMAGE_DATE: 1998 7 12
SOURCE_IMAGE_ID: NAPP 9161 071
SOURCE_IMAGE_DATE: 1998 7 12
SOURCE_DEM_DATE: 1966 1 1
AGENCY: ROCKY MOUNTAIN MAPPING CENTER (RMMC)
PRODUCER: ROCKY MOUNTAIN MAPPING CENTER (RMMC)
PRODUCTION_SYSTEM: ImageStation OrthoPro 02.02.01.06
COMPRESSION: UNDEFINED
STANDARD_VERSION: 1996 12
METADATA_DATE: 2000 2 25
DATA_FILE_SIZE: 44455914
BYTE_COUNT: 5769
