FILENAME: O4510844.SES.1005691.tif
QUADRANGLE_NAME: CASTLE ROCKS
QUADRANT: SE
WEST_LONGITUDE: -108 33 45.00000
EAST_LONGITUDE: -108 30 0.00000
NORTH_LATITUDE: 45 18 45.00000
SOUTH_LATITUDE: 45 15 0.00000
PRODUCTION_DATE: 1999 4 23
RASTER_ORDER: LEFT_RIGHT/TOP_BOTTOM
BAND_ORGANIZATION: SINGLE FILE
BAND_CONTENT: BLACK&WHITE
BAND_CONTENT: UNDEFINED
BAND_CONTENT: UNDEFINED
BITS_PER_PIXEL: 8
SAMPLES_AND_LINES: 5771 7703
HORIZONTAL_DATUM: NAD83
HORIZONTAL_COORDINATE_SYSTEM: UTM
COORDINATE_ZONE: 12
HORIZONTAL_UNITS: METERS
HORIZONTAL_RESOLUTION: 1.00000
SECONDARY_HORIZONTAL_DATUM: NAD27
XY_ORIGIN: 690710.00000 5021007.00000
SECONDARY_XY_ORIGIN: 690769.24400 5020796.65700
NATION: US
NATION: "SCIENCE
STATE: MT
NW_QUAD_CORNER_XY: 691064.57300 5020556.45000
NE_QUAD_CORNER_XY: 695963.63400 5020706.61900
SE_QUAD_CORNERY_XY: 696179.04300 5013763.37500
SW_QUAD_CORNER_XY: 691274.59000 5013613.20300
SECONDARY_NW_QUAD_XY: 691070.25200 5020339.07800
SECONDARY_NE_QUAD_XY: 695969.45900 5020489.25100
SECONDARY_SE_QUAD_XY: 696184.86600 5013546.05900
SECONDARY_SW_QUAD_XY: 691280.26700 5013395.88300
RMSE_XY: 3.00000
IMAGE_SOURCE: BLACK AND WHITE FILM
SOURCE_IMAGE_ID: NAPP 9138 017
SOURCE_IMAGE_DATE: 1996 08 23
SOURCE_IMAGE_ID: NAPP 9138 257
SOURCE_IMAGE_DATE: 1996 08 23
SOURCE_IMAGE_ID: NAPP 9138 256
SOURCE_IMAGE_DATE: 1996 08 23
SOURCE_IMAGE_ID: NAPP 9138 255
SOURCE_IMAGE_DATE: 1996 08 23
SOURCE_IMAGE_ID: NAPP 9138 014
SOURCE_IMAGE_DATE: 1996 08 23
SOURCE_DEM_DATE: 1998 00 00
AGENCY: WESTERN MAPPING CENTER (WMC)
PRODUCER: UNDEFINED
PRODUCTION_SYSTEM: GIS/MAGIC
COMPRESSION: UNDEFINED
STANDARD_VERSION: 1996 12
METADATA_DATE: 1999 05 18
DATA_FILE_SIZE: 44459784
BYTE_COUNT: 5771
