FILENAME: O4510843.NES.1007286.tif
QUADRANGLE_NAME: SECTION HOUSE DRAW
QUADRANT: NE
WEST_LONGITUDE: -108 41 15.00000
EAST_LONGITUDE: -108 37 30.00000
NORTH_LATITUDE: 45 22 30.00000
SOUTH_LATITUDE: 45 18 45.00000
PRODUCTION_DATE: 1999 4 12
RASTER_ORDER: LEFT_RIGHT/TOP_BOTTOM
BAND_ORGANIZATION: SINGLE FILE
BAND_CONTENT: BLACK&WHITE
BAND_CONTENT: UNDEFINED
BAND_CONTENT: UNDEFINED
BITS_PER_PIXEL: 8
SAMPLES_AND_LINES: 5755 7696
HORIZONTAL_DATUM: NAD83
HORIZONTAL_COORDINATE_SYSTEM: UTM
COORDINATE_ZONE: 12
HORIZONTAL_UNITS: METERS
HORIZONTAL_RESOLUTION: 1.00000
SECONDARY_HORIZONTAL_DATUM: NAD27
XY_ORIGIN: 680712.00000 5027654.00000
SECONDARY_XY_ORIGIN: 680771.36300 5027443.67400
NATION: US
NATION: "SCIENCE
STATE: MT
NW_QUAD_CORNER_XY: 681066.99100 5027210.84800
NE_QUAD_CORNER_XY: 685960.66100 5027353.40100
SE_QUAD_CORNERY_XY: 686165.50900 5020410.08800
SW_QUAD_CORNER_XY: 681266.44300 5020267.53200
SECONDARY_NW_QUAD_XY: 681072.38000 5026993.41700
SECONDARY_NE_QUAD_XY: 685966.19500 5027135.97400
SECONDARY_SE_QUAD_XY: 686171.04200 5020192.71200
SECONDARY_SW_QUAD_XY: 681271.83100 5020050.15100
RMSE_XY: 2.20000
IMAGE_SOURCE: BLACK AND WHITE FILM
SOURCE_IMAGE_ID: NAPP 9138 277
SOURCE_IMAGE_DATE: 1996 08 23
SOURCE_IMAGE_ID: NAPP 9140 108
SOURCE_IMAGE_DATE: 1996 08 23
SOURCE_IMAGE_ID: NAPP 9138 276
SOURCE_IMAGE_DATE: 1996 08 23
SOURCE_IMAGE_ID: NAPP 9138 254
SOURCE_IMAGE_DATE: 1996 08 23
SOURCE_DEM_DATE: 1998 00 00
AGENCY: WESTERN MAPPING CENTER (WMC)
PRODUCER: UNDEFINED
PRODUCTION_SYSTEM: GIS/MAGIC
COMPRESSION: UNDEFINED
STANDARD_VERSION: 1996 12
METADATA_DATE: 1999 04 28
DATA_FILE_SIZE: 44296235
BYTE_COUNT: 5755
