FILENAME: O4510841.NWS.1007155.tif
QUADRANGLE_NAME: BRIDGER
QUADRANT: NW
WEST_LONGITUDE: -109 0 0.00000
EAST_LONGITUDE: -108 56 15.00000
NORTH_LATITUDE: 45 22 30.00000
SOUTH_LATITUDE: 45 18 45.00000
PRODUCTION_DATE: 1999 4 13
RASTER_ORDER: LEFT_RIGHT/TOP_BOTTOM
BAND_ORGANIZATION: SINGLE FILE
BAND_CONTENT: BLACK&WHITE
BAND_CONTENT: UNDEFINED
BAND_CONTENT: UNDEFINED
BITS_PER_PIXEL: 8
SAMPLES_AND_LINES: 5730 7677
HORIZONTAL_DATUM: NAD83
HORIZONTAL_COORDINATE_SYSTEM: UTM
COORDINATE_ZONE: 12
HORIZONTAL_UNITS: METERS
HORIZONTAL_RESOLUTION: 1.00000
SECONDARY_HORIZONTAL_DATUM: NAD27
XY_ORIGIN: 656242.00000 5026979.00000
SECONDARY_XY_ORIGIN: 656301.61000 5026768.88300
NATION: US
NATION: "SCIENCE
STATE: MT
NW_QUAD_CORNER_XY: 656598.60600 5026555.15900
NE_QUAD_CORNER_XY: 661492.28800 5026678.68800
SE_QUAD_CORNERY_XY: 661670.15800 5019735.35900
SW_QUAD_CORNER_XY: 656771.08200 5019611.82700
SECONDARY_NW_QUAD_XY: 656603.26700 5026337.70800
SECONDARY_NE_QUAD_XY: 661497.09400 5026461.24100
SECONDARY_SE_QUAD_XY: 661674.96300 5019517.96200
SECONDARY_SW_QUAD_XY: 656775.74100 5019394.42700
RMSE_XY: 3.30000
IMAGE_SOURCE: BLACK AND WHITE FILM
SOURCE_IMAGE_ID: NAPP 9147 284
SOURCE_IMAGE_DATE: 1996 08 24
SOURCE_IMAGE_ID: NAPP 9147 283
SOURCE_IMAGE_DATE: 1996 08 24
SOURCE_IMAGE_ID: NAPP 9147 048
SOURCE_IMAGE_DATE: 1996 08 24
SOURCE_DEM_DATE: 1998 00 00
AGENCY: WESTERN MAPPING CENTER (WMC)
PRODUCER: UNDEFINED
PRODUCTION_SYSTEM: GIS/MAGIC
COMPRESSION: UNDEFINED
STANDARD_VERSION: 1996 12
METADATA_DATE: 1999 04 28
DATA_FILE_SIZE: 43994940
BYTE_COUNT: 5730
