FILENAME: O4510839.SWS.1006961.tif
QUADRANGLE_NAME: BEAR COULEE
QUADRANT: SW
WEST_LONGITUDE: -108 15 0.00000
EAST_LONGITUDE: -108 11 15.00000
NORTH_LATITUDE: 45 26 15.00000
SOUTH_LATITUDE: 45 22 30.00000
PRODUCTION_DATE: 1999 4 6
RASTER_ORDER: LEFT_RIGHT/TOP_BOTTOM
BAND_ORGANIZATION: SINGLE FILE
BAND_CONTENT: BLACK&WHITE
BAND_CONTENT: UNDEFINED
BAND_CONTENT: UNDEFINED
BITS_PER_PIXEL: 8
SAMPLES_AND_LINES: 5787 7722
HORIZONTAL_DATUM: NAD83
HORIZONTAL_COORDINATE_SYSTEM: UTM
COORDINATE_ZONE: 12
HORIZONTAL_UNITS: METERS
HORIZONTAL_RESOLUTION: 1.00000
SECONDARY_HORIZONTAL_DATUM: NAD27
XY_ORIGIN: 714731.00000 5035702.00000
SECONDARY_XY_ORIGIN: 714790.25100 5035491.15000
NATION: US
NATION: "SCIENCE
STATE: MT
NW_QUAD_CORNER_XY: 715085.12000 5035232.00000
NE_QUAD_CORNER_XY: 719973.36300 5035401.19600
SE_QUAD_CORNERY_XY: 720216.26500 5028457.85200
SW_QUAD_CORNER_XY: 715322.61700 5028288.65100
SECONDARY_NW_QUAD_XY: 715091.53100 5035014.55100
SECONDARY_NE_QUAD_XY: 719979.91900 5035183.75200
SECONDARY_SE_QUAD_XY: 720222.82000 5028240.45800
SECONDARY_SW_QUAD_XY: 715329.02600 5028071.25200
RMSE_XY: 2.50000
IMAGE_SOURCE: BLACK AND WHITE FILM
SOURCE_IMAGE_ID: NAPP 9143 021
SOURCE_IMAGE_DATE: 1996 08 24
SOURCE_IMAGE_ID: NAPP 9134 014
SOURCE_IMAGE_DATE: 1996 08 10
SOURCE_IMAGE_ID: NAPP 9134 015
SOURCE_IMAGE_DATE: 1996 08 10
SOURCE_IMAGE_ID: NAPP 9134 017
SOURCE_IMAGE_DATE: 1996 08 10
SOURCE_IMAGE_ID: NAPP 9146 061
SOURCE_IMAGE_DATE: 1996 08 24
SOURCE_DEM_DATE: 1980 00 00
AGENCY: WESTERN MAPPING CENTER (WMC)
PRODUCER: UNDEFINED
PRODUCTION_SYSTEM: GIS/MAGIC
COMPRESSION: UNDEFINED
STANDARD_VERSION: 1996 12
METADATA_DATE: 1999 04 30
DATA_FILE_SIZE: 44693001
BYTE_COUNT: 5787
