FILENAME: O4510833.SES.1007188.tif
QUADRANGLE_NAME: FROMBERG
QUADRANT: SE
WEST_LONGITUDE: -108 56 15.00000
EAST_LONGITUDE: -108 52 30.00000
NORTH_LATITUDE: 45 26 15.00000
SOUTH_LATITUDE: 45 22 30.00000
PRODUCTION_DATE: 1999 4 13
RASTER_ORDER: LEFT_RIGHT/TOP_BOTTOM
BAND_ORGANIZATION: SINGLE FILE
BAND_CONTENT: BLACK&WHITE
BAND_CONTENT: UNDEFINED
BAND_CONTENT: UNDEFINED
BITS_PER_PIXEL: 8
SAMPLES_AND_LINES: 5729 7681
HORIZONTAL_DATUM: NAD83
HORIZONTAL_COORDINATE_SYSTEM: UTM
COORDINATE_ZONE: 12
HORIZONTAL_UNITS: METERS
HORIZONTAL_RESOLUTION: 1.00000
SECONDARY_HORIZONTAL_DATUM: NAD27
XY_ORIGIN: 660958.00000 5034050.00000
SECONDARY_XY_ORIGIN: 661017.58900 5033839.80300
NATION: US
NATION: "SCIENCE
STATE: MT
NW_QUAD_CORNER_XY: 661314.22500 5033622.08400
NE_QUAD_CORNER_XY: 666202.50400 5033749.41400
SE_QUAD_CORNERY_XY: 666385.96700 5026806.02100
SW_QUAD_CORNER_XY: 661492.28800 5026678.68800
SECONDARY_NW_QUAD_XY: 661319.03200 5033404.58700
SECONDARY_NE_QUAD_XY: 666207.45700 5033531.92000
SECONDARY_SE_QUAD_XY: 666390.92000 5026588.57800
SECONDARY_SW_QUAD_XY: 661497.09400 5026461.24100
RMSE_XY: 1.40000
IMAGE_SOURCE: BLACK AND WHITE FILM
SOURCE_IMAGE_ID: NAPP 9147 049
SOURCE_IMAGE_DATE: 1996 08 24
SOURCE_IMAGE_ID: NAPP 9147 048
SOURCE_IMAGE_DATE: 1996 08 24
SOURCE_IMAGE_ID: NAPP 9147 050
SOURCE_IMAGE_DATE: 1996 08 24
SOURCE_IMAGE_ID: NAPP 9147 023
SOURCE_IMAGE_DATE: 1996 08 24
SOURCE_IMAGE_ID: NAPP 9147 022
SOURCE_IMAGE_DATE: 1996 08 24
SOURCE_DEM_DATE: 1998 00 00
AGENCY: WESTERN MAPPING CENTER (WMC)
PRODUCER: UNDEFINED
PRODUCTION_SYSTEM: GIS/MAGIC
COMPRESSION: UNDEFINED
STANDARD_VERSION: 1996 12
METADATA_DATE: 1999 04 28
DATA_FILE_SIZE: 44010178
BYTE_COUNT: 5729
