FILENAME: O4510832.NWS.1007029.tif
QUADRANGLE_NAME: WOODY MOUNTAIN SE
QUADRANT: NW
WEST_LONGITUDE: -108 7 30.00000
EAST_LONGITUDE: -108 3 45.00000
NORTH_LATITUDE: 45 37 30.00000
SOUTH_LATITUDE: 45 33 45.00000
PRODUCTION_DATE: 1999 4 8
RASTER_ORDER: LEFT_RIGHT/TOP_BOTTOM
BAND_ORGANIZATION: SINGLE FILE
BAND_CONTENT: BLACK&WHITE
BAND_CONTENT: UNDEFINED
BAND_CONTENT: UNDEFINED
BITS_PER_PIXEL: 8
SAMPLES_AND_LINES: 5782 7730
HORIZONTAL_DATUM: NAD83
HORIZONTAL_COORDINATE_SYSTEM: UTM
COORDINATE_ZONE: 12
HORIZONTAL_UNITS: METERS
HORIZONTAL_RESOLUTION: 1.00000
SECONDARY_HORIZONTAL_DATUM: NAD27
XY_ORIGIN: 723761.00000 5056882.00000
SECONDARY_XY_ORIGIN: 723820.33900 5056671.10400
NATION: US
NATION: "SCIENCE
STATE: MT
NW_QUAD_CORNER_XY: 724115.06100 5056404.55800
NE_QUAD_CORNER_XY: 728987.03900 5056581.35000
SE_QUAD_CORNERY_XY: 729241.57900 5049637.84800
SW_QUAD_CORNER_XY: 724364.17700 5049461.04800
SECONDARY_NW_QUAD_XY: 724121.76900 5056186.97500
SECONDARY_NE_QUAD_XY: 728993.89300 5056363.77100
SECONDARY_SE_QUAD_XY: 729248.43100 5049420.31700
SECONDARY_SW_QUAD_XY: 724370.88200 5049243.51200
RMSE_XY: 1.70000
IMAGE_SOURCE: BLACK AND WHITE FILM
SOURCE_IMAGE_ID: NAPP 9142 262
SOURCE_IMAGE_DATE: 1996 08 24
SOURCE_IMAGE_ID: NAPP 9142 263
SOURCE_IMAGE_DATE: 1996 08 24
SOURCE_DEM_DATE: 1998 00 00
AGENCY: WESTERN MAPPING CENTER (WMC)
PRODUCER: UNDEFINED
PRODUCTION_SYSTEM: GIS/MAGIC
COMPRESSION: UNDEFINED
STANDARD_VERSION: 1996 12
METADATA_DATE: 1999 04 28
DATA_FILE_SIZE: 44700642
BYTE_COUNT: 5782
