FILENAME: O4510832.SWS.1007031.tif
QUADRANGLE_NAME: WOODY MOUNTAIN SE
QUADRANT: SW
WEST_LONGITUDE: -108 7 30.00000
EAST_LONGITUDE: -108 3 45.00000
NORTH_LATITUDE: 45 33 45.00000
SOUTH_LATITUDE: 45 30 0.00000
PRODUCTION_DATE: 1999 4 8
RASTER_ORDER: LEFT_RIGHT/TOP_BOTTOM
BAND_ORGANIZATION: SINGLE FILE
BAND_CONTENT: BLACK&WHITE
BAND_CONTENT: UNDEFINED
BAND_CONTENT: UNDEFINED
BITS_PER_PIXEL: 8
SAMPLES_AND_LINES: 5787 7730
HORIZONTAL_DATUM: NAD83
HORIZONTAL_COORDINATE_SYSTEM: UTM
COORDINATE_ZONE: 12
HORIZONTAL_UNITS: METERS
HORIZONTAL_RESOLUTION: 1.00000
SECONDARY_HORIZONTAL_DATUM: NAD27
XY_ORIGIN: 724010.00000 5049938.00000
SECONDARY_XY_ORIGIN: 724069.31100 5049727.11700
NATION: US
NATION: "SCIENCE
STATE: MT
NW_QUAD_CORNER_XY: 724364.17700 5049461.04800
NE_QUAD_CORNER_XY: 729241.57900 5049637.84800
SE_QUAD_CORNERY_XY: 729495.84500 5042694.40200
SW_QUAD_CORNER_XY: 724613.02300 5042517.59500
SECONDARY_NW_QUAD_XY: 724370.88200 5049243.51200
SECONDARY_NE_QUAD_XY: 729248.43100 5049420.31700
SECONDARY_SE_QUAD_XY: 729502.69500 5042476.91900
SECONDARY_SW_QUAD_XY: 724619.72700 5042300.10700
RMSE_XY: 2.60000
IMAGE_SOURCE: BLACK AND WHITE FILM
SOURCE_IMAGE_ID: NAPP 9142 264
SOURCE_IMAGE_DATE: 1996 08 24
SOURCE_IMAGE_ID: NAPP 9142 265
SOURCE_IMAGE_DATE: 1996 08 24
SOURCE_IMAGE_ID: NAPP 9142 263
SOURCE_IMAGE_DATE: 1996 08 24
SOURCE_IMAGE_ID: NAPP 9142 262
SOURCE_IMAGE_DATE: 1996 08 24
SOURCE_DEM_DATE: 1998 00 00
AGENCY: WESTERN MAPPING CENTER (WMC)
PRODUCER: UNDEFINED
PRODUCTION_SYSTEM: GIS/MAGIC
COMPRESSION: UNDEFINED
STANDARD_VERSION: 1996 12
METADATA_DATE: 1999 04 28
DATA_FILE_SIZE: 44739297
BYTE_COUNT: 5787
